BEGIN:VCALENDAR
VERSION:2.0
PRODID:-//ChamberMaster//Event Calendar 2.0//EN
METHOD:PUBLISH
X-PUBLISHED-TTL:P3D
REFRESH-INTERVAL:P3D
CALSCALE:GREGORIAN
BEGIN:VEVENT
DTSTART;VALUE=DATE:20131001
DTEND;VALUE=DATE:20131002
TRANSP:TRANSPARENT
X-MICROSOFT-CDO-ALLDAYEVENT:TRUE
SUMMARY:2013 - 2014 Leadership Winona Registration
DESCRIPTION:The Leadership Winona program is about identifying emerging leaders\, broadening knowledge of the community and motivating and inspiring individuals to become leaders at work\, in the community or for personal growth. The class runs from September through March.  *Class size is limited to 35 people*
X-ALT-DESC;FMTTYPE=text/html:<span style="font-size:12px\;"><span style="font-family: arial\;">The Leadership Winona program is about identifying emerging leaders\, broadening knowledge of the community and motivating and inspiring individuals to become leaders at work\, in the community or for personal growth. The class runs from September through March.&nbsp\; *<em>Class size is limited to 35 people*</em></span></span>
LOCATION:Winona Area Chamber of Commerce 902 E. 2nd Street
UID:e.1434.1190
SEQUENCE:3
DTSTAMP:20260420T093326Z
URL:http://business.winonachamber.com/events/details/2013-2014-leadership-winona-registration-10-01-2013-1190
END:VEVENT

END:VCALENDAR
