BEGIN:VCALENDAR
VERSION:2.0
PRODID:-//ChamberMaster//Event Calendar 2.0//EN
METHOD:PUBLISH
X-PUBLISHED-TTL:P3D
REFRESH-INTERVAL:P3D
CALSCALE:GREGORIAN
BEGIN:VEVENT
DTSTART;VALUE=DATE:20130718
DTEND;VALUE=DATE:20130719
TRANSP:TRANSPARENT
X-MICROSOFT-CDO-ALLDAYEVENT:TRUE
SUMMARY:2013 A Sweet Stroll Downtown
DESCRIPTION:A Sweet Stroll Downtown\n\n \n\nTarget Date: Thursday\, July 18th\, 2013  4:00 - 8:00 p.m.\n\n\n\nWhat: Participating businesses will plan on staying open late\, decorating window/display area\, and offering gourmet cupcakes or other sweet treats throughout the evening \n\n\n\nVision: Picture families and couples strolling\, shopping\, dining and realizing how many great options downtown has to offer\n\n\n\nPromotion: Get ready to use this "sweet" event as an opportunity to give customers incentive to return to your particular business!\n\n\n\nMore Information: Contact David Bittner\, the Main Street Program Coordinator\, for more information or to indicate your interest level for the  Sweet Stroll Downtown event\n\n\n\nPhone: (507) 452-2272 Fax: (507) 454-8814 Email: dbittner@winonachamber.com\n\n \n\nRegistration due by June 14th\, 2013
X-ALT-DESC;FMTTYPE=text/html:<span style="language:en-US\;"><span style="font-family:britannic bold\;"><span style="font-size:25.0pt\;">A Sweet Stroll Downtown</span></span></span><br />\n&nbsp\;<br />\n<span style="font-size:14px\;"><span style="font-weight: bold\;"><span style="font-family: arial\;">Target Date</span></span><span><span style="font-family: arial\;">: Thursday\, July 18th\, 2013&nbsp\; 4:00 - 8:00 p.m.</span></span><br />\n<br />\n<span style="font-weight: bold\;"><span style="font-family: arial\;">What</span></span>: <span><span style="color: black\;"><span style="font-family: arial\;">Participating businesses will plan on staying open late\, decorating window/display area\, and offering gourmet cupcakes or other sweet treats throughout the evening </span></span></span><br />\n<br />\n<span style="font-weight: bold\;"><span style="color: black\;"><span style="font-family: arial\;">Vision:</span></span></span><span><span style="color: black\;"><span style="font-family: arial\;"> Picture families and couples strolling\, shopping\, dining and realizing how many great options downtown has to offer</span></span></span><br />\n<br />\n<span style="font-weight: bold\;"><span style="color: black\;"><span style="font-family: arial\;">Promotion</span></span></span><span><span style="color: black\;"><span style="font-family: arial\;">: Get ready to use this &ldquo\;sweet&rdquo\; event as an opportunity to give customers incentive to return to your particular business!</span></span></span><br />\n<br />\n<span style="font-weight: bold\;"><span style="color: black\;"><span style="font-family: arial\;">More Information</span></span></span><span><span style="color: black\;"><span style="font-family: arial\;">: Contact David Bittner\, the Main Street Program Coordinator\, for more information or to indicate your interest level for the&nbsp\; </span></span></span><span style="font-weight: bold\;"><span style="color: black\;"><span style="font-family: arial\;">Sweet Stroll Downtown event<br />\n<br />\nPhone</span></span></span><span><span style="color: black\;"><span style="font-family: arial\;">: (507) 452-2272 </span></span></span><span style="font-weight: bold\;"><span style="color: black\;"><span style="font-family: arial\;">Fax</span></span></span><span><span style="color: black\;"><span style="font-family: arial\;">: (507) 454-8814 </span></span></span><span style="font-weight: bold\;"><span style="color: black\;"><span style="font-family: arial\;">Email</span></span></span><span><span style="color: black\;"><span style="font-family: arial\;">: dbittner@winonachamber.com</span></span></span><br />\n&nbsp\;<br />\nRegistration due by June 14th\, 2013<br />\n&nbsp\;<br />\n&nbsp\;<br />\n&nbsp\;</span><br />\n
LOCATION:Historic Downtown Winona
UID:e.1434.2083
SEQUENCE:3
DTSTAMP:20260422T141212Z
URL:http://business.winonachamber.com/events/details/2013-a-sweet-stroll-downtown-07-18-2013-2083
END:VEVENT

END:VCALENDAR
