BEGIN:VCALENDAR
VERSION:2.0
PRODID:-//ChamberMaster//Event Calendar 2.0//EN
METHOD:PUBLISH
X-PUBLISHED-TTL:P3D
REFRESH-INTERVAL:P3D
CALSCALE:GREGORIAN
BEGIN:VEVENT
DTSTART:20131111T233000Z
DTEND:20131112T010000Z
X-MICROSOFT-CDO-ALLDAYEVENT:FALSE
SUMMARY:2013 Ambassador Year End Bash & Holiday Recogintion
DESCRIPTION:Ambassador Year End PARTY and Volunteer Appreciation
X-ALT-DESC;FMTTYPE=text/html:Ambassador Year End PARTY and Volunteer Appreciation
LOCATION:Location: Home of Deb Skarlupka 62 Shady Oaks Court
UID:e.1434.2121
SEQUENCE:3
DTSTAMP:20260420T075502Z
URL:http://business.winonachamber.com/events/details/2013-ambassador-year-end-bash-holiday-recogintion-11-11-2013-2121
END:VEVENT

END:VCALENDAR
