BEGIN:VCALENDAR
VERSION:2.0
PRODID:-//ChamberMaster//Event Calendar 2.0//EN
METHOD:PUBLISH
X-PUBLISHED-TTL:P3D
REFRESH-INTERVAL:P3D
CALSCALE:GREGORIAN
BEGIN:VEVENT
DTSTART:20130118T233000Z
DTEND:20130119T030000Z
X-MICROSOFT-CDO-ALLDAYEVENT:FALSE
SUMMARY:2013 Annual Meeting & Banquet
DESCRIPTION:Chamber Annual Banquet and Member Appreciation\n\nKeynote Speaker: Katy Smith\n\n\n\nIndividual tickets: $38.00\n\nReserved Corporate Table for 8: $350\n\nReserved Corporate Table for 10: $425
X-ALT-DESC;FMTTYPE=text/html:Chamber Annual Banquet and Member Appreciation<br />\nKeynote Speaker: Katy Smith<br />\n<br />\nIndividual tickets: $38.00<br />\nReserved Corporate Table for 8: $350<br />\nReserved Corporate Table for 10: $425<br />\n
LOCATION:Riverport Inn 900 Bruski Drive Winona\, MN 55987
UID:e.1434.1188
SEQUENCE:3
DTSTAMP:20260423T012327Z
URL:http://business.winonachamber.com/events/details/2013-annual-meeting-banquet-01-18-2013-1188
END:VEVENT

END:VCALENDAR
