BEGIN:VCALENDAR
VERSION:2.0
PRODID:-//ChamberMaster//Event Calendar 2.0//EN
METHOD:PUBLISH
X-PUBLISHED-TTL:P3D
REFRESH-INTERVAL:P3D
CALSCALE:GREGORIAN
BEGIN:VEVENT
DTSTART:20130313T120000Z
DTEND:20130313T220000Z
X-MICROSOFT-CDO-ALLDAYEVENT:FALSE
SUMMARY:2013 Business Day at the Capitol 03.13
DESCRIPTION:BUSINESS  DAY AT THE CAPITOL\n\nAdvance your priorities face-to-face with legislators\n\n\n\nJoin your peers from across the state as we lobby with one voice on the issues that will help strengthen the business environment to improve the lives of all Minnesotans.\n\n \n\nEvent LocationCrowne Plaza St. Paul - Riverfront\n\n11 East Kellogg Boulevard\, St. Paul \n\nWednesday\, March 13    $55\n\n \n\n7:00 am -Meet at JC Penny/Goodview water tower parking lot   Hwy 14 & 61 Winona MN\n\n5:00 pm  Back in Winona
X-ALT-DESC;FMTTYPE=text/html:<strong><span style="font-family:times new roman\,serif\;"><span style="font-size:11.0pt\;">BUSINESS &nbsp\;DAY AT THE CAPITOL</span></span></strong><br />\n<span style="font-family:times new roman\,serif\;"><span style="font-size:11.0pt\;"><em>Advance your priorities face-to-face with legislators</em><br />\n<br />\nJoin your peers from across the state as we lobby with one voice on the issues that will help strengthen the business environment to improve the lives of all Minnesotans.<br />\n&nbsp\;</span></span><br />\n<strong><span style="font-family:times new roman\,serif\;"><span style="font-size:11.0pt\;">Event&nbsp\;</span></span></strong><strong><span style="font-family:times new roman\,serif\;"><span style="font-size:11.0pt\;">Location</span></span></strong><a href="http://www.cpstpaul.com/directions.html" target="_blank"><span style="color:blue\;"><span style="font-family:times new roman\,serif\;"><span style="font-size:11.0pt\;">Crowne</span></span></span></a><a href="http://www.cpstpaul.com/directions.html" target="_blank"><span style="color:blue\;"><span style="font-family:times new roman\,serif\;"><span style="font-size:11.0pt\;"> Plaza St. Paul - Riverfront</span></span></span></a><br />\n<span style="font-family:times new roman\,serif\;"><span style="font-size:11.0pt\;">11 East Kellogg Boulevard\, St. Paul </span></span><br />\n<span style="font-family:times new roman\,serif\;"><span style="font-size:11.0pt\;">Wednesday\, March 13&nbsp\;&nbsp\;&nbsp\; </span></span><span style="font-family:times new roman\,serif\;"><span style="font-size:11.0pt\;">$55</span></span><br />\n&nbsp\;<br />\n<strong><span style="font-family:times new roman\,serif\;"><span style="font-size:11.0pt\;">7:00 am -</span></span></strong><span style="font-family:times new roman\,serif\;"><span style="font-size:11.0pt\;">Meet at JC Penny/Goodview water tower parking lot &ndash\; Hwy 14 &amp\; 61 Winona MN</span></span><br />\n<strong><span style="font-family:times new roman\,serif\;"><span style="font-size:11.0pt\;">5:00 pm</span></span></strong><span style="font-family:times new roman\,serif\;"><span style="font-size:11.0pt\;">&ndash\; Back in Winona</span></span>
LOCATION:AGENDA 9:00 a.m. Registration Open/Networking and Coffee & Rolls 9:30 a.m. Preliminary Session: Lobby 101: How to be the most effective advocate for your issues This breakout session has become very popular over the past two years\, so we are opening it up to all attendees who might be interested in a little refresher course before heading up to talk with legislators. Bill Blazar\, senior vice president of the Minnesota Chamber of Commerce provides a great overview for the novice to the experienced. 10:30 a.m. Welcome & Key Messages for 2013 Business Priorities Minnesota Chamber of Commerce President David Olson will welcome the group and an update on the progress of 2013 Business Priorities: education and workforce\, spending and tax reform\, health care\, energy\, environmental regulations and election reform will be provided. Attendees will receive written materials outlining each priority. 11:00 a.m. Business Keynote Address: The Importance of a Great Business Climate Hear from Scott Wine\, Chairman and CEO\, Polaris Industries\, as he shares his views on Minnesota's business climate as well as concerns about Governor Dayton's proposed budget and the impact it will have on one of the state's largest manufacturers. 11:30 a.m. Lunch 12:00 p.m. Luncheon Address from Governor Mark Dayton Governor Mark Dayton will address the business community at this annual event. The Administration's update on the progress of the session as well as the business communities' priorities is anticipated. There will be time allotted for audience questions. 12:45 p.m. Board buses to the Capitol 1:15 - 3:00 p.m. Appointments with Legislators
UID:e.1434.1255
SEQUENCE:3
DTSTAMP:20260422T202918Z
URL:http://business.winonachamber.com/events/details/2013-business-day-at-the-capitol-03-13-03-13-2013-1255
END:VEVENT

END:VCALENDAR
