BEGIN:VCALENDAR
VERSION:2.0
PRODID:-//ChamberMaster//Event Calendar 2.0//EN
METHOD:PUBLISH
X-PUBLISHED-TTL:P3D
REFRESH-INTERVAL:P3D
CALSCALE:GREGORIAN
BEGIN:VEVENT
DTSTART:20131212T230000Z
DTEND:20131213T010000Z
X-MICROSOFT-CDO-ALLDAYEVENT:FALSE
SUMMARY:2013 Chamber December Network Nite
DESCRIPTION:December Network Nite\n\n\n\nBring your business cards and come network with your fellow Chamber members!\n\n \n\nFREE and open to ALL Chamber members
X-ALT-DESC;FMTTYPE=text/html:<strong>December Network Nite</strong><br />\n<br />\n<strong>Bring your business cards and come network with your fellow Chamber members!</strong><br />\n&nbsp\;<br />\n<strong>FREE and open to ALL Chamber members</strong><br />\n&nbsp\;<br />\n
LOCATION:Wells Fargo 875 34th Avenue Goodview Branch
UID:e.1434.2117
SEQUENCE:3
DTSTAMP:20260420T075310Z
URL:http://business.winonachamber.com/events/details/2013-chamber-december-network-nite-12-12-2013-2117
END:VEVENT

END:VCALENDAR
