BEGIN:VCALENDAR
VERSION:2.0
PRODID:-//ChamberMaster//Event Calendar 2.0//EN
METHOD:PUBLISH
X-PUBLISHED-TTL:P3D
REFRESH-INTERVAL:P3D
CALSCALE:GREGORIAN
BEGIN:VEVENT
DTSTART:20130606T170000Z
DTEND:20130607T010000Z
X-MICROSOFT-CDO-ALLDAYEVENT:FALSE
SUMMARY:2013 Chamber Golf Classic
DESCRIPTION:The Chamber Golf Classic is the largest Chamber fundraiser of the year. The tournament provides opportunity to network\, promote your company\, and have some fun playing a beautiful golf course. Proceeds support the efforts of the Winona Area Chamber of Commerce in our mission to provide value to our members through business advocacy\, training\, economic development and the support of tourism. \n\n \n\nThe tournament will be a four-person scramble tournament with plenty of  prizes to be awarded. The registration fee includes lunch\, golf cart\, 18 holes of golf\, fun\, prizes\, and dinner for only $115 per player. \n\n \n\nThe 2013 Chamber Golf Classic is schedule for Thursday\, June 6\, 2013 at Cedar Valley Golf Course starting with lunch and registration at 12 noon and shot-gun will begin at 1:00pm.\n\n \n\nRegistration for the 2013 tournament is available by\, registering here or contacting the Winona Area Chamber at (507) 452-2272 for registration or sponsorship opportunities.
X-ALT-DESC;FMTTYPE=text/html:<strong>The Chamber Golf Classic is the largest Chamber fundraiser of the year. The tournament provides opportunity to network\, promote your company\, and have some fun playing a beautiful golf course. Proceeds support the efforts of the Winona Area Chamber of Commerce in our mission </strong><em>to provide value to our members through business advocacy\, training\, economic development and the support of tourism. </em><br>\n&nbsp\;<br>\n<strong>The tournament will be a four-person scramble tournament with plenty of &nbsp\;prizes to be awarded. The registration fee includes lunch\, golf cart\, 18 holes of golf\, fun\, prizes\, and dinner for only $115 per player. </strong><br>\n&nbsp\;<br>\n<strong>The 2013 Chamber Golf Classic is schedule for Thursday\, June 6\, 2013 at Cedar Valley Golf Course starting with lunch and registration at 12 noon and shot-gun will begin at 1:00pm.</strong><br>\n&nbsp\;<br>\n<strong>Registration for the 2013 tournament is available by\, registering here or contacting the Winona Area Chamber at (507) 452-2272 for registration or sponsorship opportunities.</strong><br>\n&nbsp\;
LOCATION:Where: Cedar Valley\, 25019 County Road 9 Who: Anyone who wants to participate (No handicap or golf experience needed) How: A four-person scramble tournament
UID:e.1434.1199
SEQUENCE:3
DTSTAMP:20260422T155246Z
URL:http://business.winonachamber.com/events/details/2013-chamber-golf-classic-06-06-2013-1199
END:VEVENT

END:VCALENDAR
