BEGIN:VCALENDAR
VERSION:2.0
PRODID:-//ChamberMaster//Event Calendar 2.0//EN
METHOD:PUBLISH
X-PUBLISHED-TTL:P3D
REFRESH-INTERVAL:P3D
CALSCALE:GREGORIAN
BEGIN:VEVENT
DTSTART:20131105T180000Z
DTEND:20131105T190000Z
X-MICROSOFT-CDO-ALLDAYEVENT:FALSE
SUMMARY:2013 Chamber YP+ (a special program for YPs with children) 11.05
DESCRIPTION:Katy Smith\, MN Teacher of the Year 2011 will facilitate our YP+\,  a special program aimed towards YPs with children!\n\n	\n\n	Expand your circle with other parents\, build new relationships\, share concerns and ideas!\n\n	Please RSVP by calling the Chamber at 452-2272 or email tsandven@winonachamber.com
X-ALT-DESC;FMTTYPE=text/html:<p>\n	Katy Smith\, MN Teacher of the Year 2011 will facilitate our YP+\, &nbsp\;a special program aimed towards YPs with children!<br />\n	<br />\n	Expand your circle with other parents\, build new relationships\, share concerns and ideas!</p>\n<p>\n	Please RSVP by calling the Chamber at 452-2272 or email tsandven@winonachamber.com</p>\n
LOCATION:Chamber of Commerce Conference Room 902 E. 2nd Street\, Suite 120
UID:e.1434.2078
SEQUENCE:3
DTSTAMP:20260420T075432Z
URL:http://business.winonachamber.com/events/details/2013-chamber-yp-a-special-program-for-yps-with-children-11-05-11-05-2013-2078
END:VEVENT

END:VCALENDAR
