BEGIN:VCALENDAR
VERSION:2.0
PRODID:-//ChamberMaster//Event Calendar 2.0//EN
METHOD:PUBLISH
X-PUBLISHED-TTL:P3D
REFRESH-INTERVAL:P3D
CALSCALE:GREGORIAN
BEGIN:VEVENT
DTSTART;VALUE=DATE:20131129
DTEND;VALUE=DATE:20131222
TRANSP:TRANSPARENT
X-MICROSOFT-CDO-ALLDAYEVENT:TRUE
SUMMARY:2013 Downtown Holiday Window Walk
DESCRIPTION:Downtown Holiday Window Walk\n\nDecorating Contest\n\nTheme: A Cozy Winter Night\n\n\n\n\n\nWith the Winona Main Street Program in full swing\, we will be coordinating the "Downtown Storefront Decorating Contest" event for 2013 and beyond.  We are renaming the event "Downtown Holiday Window Walk"   a play off of the Sweet Stroll event - and are excited to have announced our theme for this year "A Cozy Winter's Night".  Look forward to downtown businesses showing off their vision of what makes them feel warm and cozy on a cold winter night!\n\n\n\nWe are starting the decorating contest with a kickoff event on November 29th. "Not-So Black Friday" will be focused on helping customers beat the big box blues.  Our focus is on celebrating what makes downtown unique\; showcasing superior customer service\, quality of products\, and pampering of customers. \n\nThe decorating contest will end tentatively on December 20th with the contest winners being announced at the December 21st Live at the Levee event.  More details (including prizes) are to come.  Stay tuned to the Chamber's website as more details are announced or call 452-2272 for additional information.
X-ALT-DESC;FMTTYPE=text/html:<strong>Downtown Holiday Window Walk<br />\nDecorating Contest<br />\nTheme: A Cozy Winter Night</strong><br />\n<br />\n<br />\nWith the Winona Main Street Program in full swing\, we will be coordinating the &ldquo\;Downtown Storefront Decorating Contest&rdquo\; event for 2013 and beyond.&nbsp\; We are renaming the event &ldquo\;Downtown Holiday Window Walk&rdquo\; &ndash\; a play off of the Sweet Stroll event - and are excited to have announced our theme for this yea<strong>r &ldquo\;A Cozy Winter&rsquo\;s Night&rdquo\;</strong>.&nbsp\; Look forward to downtown businesses showing off their vision of what makes them feel warm and cozy on a cold winter night!<br />\n<br />\nWe are starting the decorating contest with a kickoff event on November 29th. &ldquo\;Not-So Black Friday&rdquo\; will be focused on helping customers beat the big box blues.&nbsp\; Our focus is on celebrating what makes downtown unique\; showcasing superior customer service\, quality of products\, and pampering of customers.&nbsp\;<br />\nThe decorating contest will end tentatively on December 20th with the contest winners being announced at the December 21st Live at the Levee event.&nbsp\; More details (including prizes) are to come.&nbsp\; Stay tuned to the Chamber&#39\;s website as more details are announced or call 452-2272 for additional information.
LOCATION:Historic Downtown Winona
UID:e.1434.2125
SEQUENCE:3
DTSTAMP:20260420T061719Z
URL:http://business.winonachamber.com/events/details/2013-downtown-holiday-window-walk-11-29-2013-2125
END:VEVENT

END:VCALENDAR
