BEGIN:VCALENDAR
VERSION:2.0
PRODID:-//ChamberMaster//Event Calendar 2.0//EN
METHOD:PUBLISH
X-PUBLISHED-TTL:P3D
REFRESH-INTERVAL:P3D
CALSCALE:GREGORIAN
BEGIN:VEVENT
DTSTART:20131107T133000Z
DTEND:20131107T133000Z
X-MICROSOFT-CDO-ALLDAYEVENT:FALSE
SUMMARY:2013 Eggs 'n' Issues - Winona Transportation w/ MnDOT
DESCRIPTION:Eggs & Issues\n\n\n\nTransportation projects in Winona\n\n\n\n**Gilmore Ave/Highway 61 & Hwy 43 Bridge\n\nTerry Ward\, MnDot Project Manager\n\n   \n\n**Highway 43 Bridge\n\nJai Kelsey\, MnDot Project Manager
X-ALT-DESC;FMTTYPE=text/html:Eggs &amp\; Issues<br />\n<br />\nTransportation projects in Winona<br />\n<br />\n**Gilmore Ave/Highway 61 &amp\; Hwy 43 Bridge<br />\nTerry Ward\, MnDot Project Manager<br />\n&nbsp\;&nbsp\;&nbsp\;<br />\n**Highway 43 Bridge<br />\nJai Kelsey\, MnDot Project Manager<br />\n<br />\n
LOCATION:Timbers Restaurant 270 West Third Street
UID:e.1434.2120
SEQUENCE:3
DTSTAMP:20260420T075250Z
URL:http://business.winonachamber.com/events/details/2013-eggs-n-issues-winona-transportation-w-mndot-11-07-2013-2120
END:VEVENT

END:VCALENDAR
