BEGIN:VCALENDAR
VERSION:2.0
PRODID:-//ChamberMaster//Event Calendar 2.0//EN
METHOD:PUBLISH
X-PUBLISHED-TTL:P3D
REFRESH-INTERVAL:P3D
CALSCALE:GREGORIAN
BEGIN:VEVENT
DTSTART:20130627T220000Z
DTEND:20130628T010000Z
X-MICROSOFT-CDO-ALLDAYEVENT:FALSE
SUMMARY:2013 Family Night on the Farm
DESCRIPTION:Family Night on the Farm at Greden's Ponderosa Dairy\n\n\n\nThis family-friendly event celebrates the economic importance of the agriculture industry to Winona County. Winona County is the 3rd largest dairy producing county in the state of Minnesota\, and provides thousands of direct and indirect jobs.\n\n \n\nThe Winona Chamber provides a fun\, safe multi-generational family event at a local family owned dairy farm each year. While the attractions include the popular family-style picnic complete with root beer floats\, hay rack rides\, kids games\, live entertainment\, small petting zoo and farm implement displays\, there is much more to Family Night on the Farm. This event encourages attendees to take an education tour of dairy farm operations\, exploring how the cows are cared for\, how milking operations work\, what safety standards are in place as well as how the farm operates just like any other family owned business. Most importantly\, attendees gain an understanding of just how important the local family farm is to the very culture and fabric of Winona County.\n\n \n\nFarm machine display - games - petting zoo - Children's "Train" wagon\n\nEntertainment by Ron's Old Thym Fun Band
X-ALT-DESC;FMTTYPE=text/html:<span style="color:#006400\;"><strong><span style="font-size: 16px\;"><span style="font-family: tahoma\;">Family Night on the Farm at Greden&#39\;s Ponderosa Dairy</span></span></strong></span><br />\n<br />\n<span style="font-size:14px\;"><span style="font-family: tahoma\;">This family-friendly event celebrates the economic importance of the agriculture industry to Winona County. Winona County is the 3<sup>rd</sup> largest dairy producing county in the state of Minnesota\, and provides thousands of direct and indirect jobs.<br />\n&nbsp\;<br />\nThe Winona Chamber provides a fun\, safe multi-generational family event at a local family owned dairy farm each year. While the attractions include the popular family-style picnic complete with root beer floats\, hay rack rides\, kids games\, live entertainment\, small petting zoo and farm implement displays\, there is much more to Family Night on the Farm. This event encourages attendees to take an education tour of dairy farm operations\, exploring how the cows are cared for\, how milking operations work\, what safety standards are in place as well as how the farm operates just like any other family owned business. Most importantly\, attendees gain an understanding of just how important the local family farm is to the very culture and fabric of Winona County.<br />\n&nbsp\;</span></span><br />\n<span style="font-size:14px\;"><span style="font-family: tahoma\;">Farm machine display - games - petting zoo - Children&#39\;s &quot\;Train&quot\; wagon<br />\nEntertainment by Ron&#39\;s Old Thym Fun Band</span></span><br />\n<br />\n
LOCATION:Greden's Ponderosa Dairy Count Road 28 Altura\, MN Directions From Winona\, Go North on Hwy 61 take a left on Hwy 248 go 8.8 miles to Co. Rd. 31\, turn right go 1.7 miles to Co. Rd. 28\, follow signs for parking
UID:e.1434.2084
SEQUENCE:3
DTSTAMP:20260422T155458Z
URL:http://business.winonachamber.com/events/details/2013-family-night-on-the-farm-06-27-2013-2084
END:VEVENT

END:VCALENDAR
