BEGIN:VCALENDAR
VERSION:2.0
PRODID:-//ChamberMaster//Event Calendar 2.0//EN
METHOD:PUBLISH
X-PUBLISHED-TTL:P3D
REFRESH-INTERVAL:P3D
CALSCALE:GREGORIAN
BEGIN:VEVENT
DTSTART:20130131T173000Z
DTEND:20130131T190000Z
X-MICROSOFT-CDO-ALLDAYEVENT:FALSE
SUMMARY:2013 Lunchtime Learning 01.31 Series 1- Promotion and Sales Begin with you! Honing Networking Skills and turning new contacts into sales
DESCRIPTION:2013 Lunchtime Learning Seminar Series\n\n	Speaker - Steve Young\, American Family Insurance\n\n	Promotion and Sales begin with you!\n\n	Honing Networking Skills and turning new contacts into Sales
X-ALT-DESC;FMTTYPE=text/html:<p>\n	2013 Lunchtime Learning Seminar Series</p>\n<p>\n	Speaker - Steve Young\, American Family Insurance<br />\n	Promotion and Sales begin with you!<br />\n	Honing Networking Skills and turning new contacts into Sales<br />\n	&nbsp\;</p>\n
LOCATION:Chamber of Commerce Training Room 902 East Second Street Suite 120
UID:e.1434.918
SEQUENCE:3
DTSTAMP:20260423T012459Z
URL:http://business.winonachamber.com/events/details/2013-lunchtime-learning-01-31-series-1-promotion-and-sales-begin-with-you-honing-networking-skills-and-turning-new-contacts-into-sales-01-31-2013-918
END:VEVENT

END:VCALENDAR
