BEGIN:VCALENDAR
VERSION:2.0
PRODID:-//ChamberMaster//Event Calendar 2.0//EN
METHOD:PUBLISH
X-PUBLISHED-TTL:P3D
REFRESH-INTERVAL:P3D
CALSCALE:GREGORIAN
BEGIN:VEVENT
DTSTART:20130829T170000Z
DTEND:20130829T180000Z
X-MICROSOFT-CDO-ALLDAYEVENT:FALSE
SUMMARY:2013 Lunchtime Learning - Legal Issues for Business
DESCRIPTION:Legal Issues for Business\n\n5 Ways to Stay Out of Jail and\n\nProtect Your Assets\n\nPresented by Libera Knapp Law Office
X-ALT-DESC;FMTTYPE=text/html:<strong><span style="color:#0991ad\;"><span style="font-family:lucida sans unicode\,sans-serif\;">Legal Issues for Business</span></span></strong><br />\n<strong><span style="color:#0991ad\;"><span style="font-family:lucida sans unicode\,sans-serif\;">5 Ways to Stay Out of Jail and</span></span></strong><br />\n<strong><span style="color:#0991ad\;"><span style="font-family:lucida sans unicode\,sans-serif\;">Protect Your Assets</span></span></strong><br />\n<strong><span style="color:#0991ad\;"><span style="font-family:lucida sans unicode\,sans-serif\;">Presented by Libera Knapp Law Office</span></span></strong>
LOCATION:Chamber Conference Room 902 East Second Street Suite 120
UID:e.1434.2100
SEQUENCE:3
DTSTAMP:20260422T122549Z
URL:http://business.winonachamber.com/events/details/2013-lunchtime-learning-legal-issues-for-business-08-29-2013-2100
END:VEVENT

END:VCALENDAR
