BEGIN:VCALENDAR
VERSION:2.0
PRODID:-//ChamberMaster//Event Calendar 2.0//EN
METHOD:PUBLISH
X-PUBLISHED-TTL:P3D
REFRESH-INTERVAL:P3D
CALSCALE:GREGORIAN
BEGIN:VEVENT
DTSTART:20130425T160000Z
DTEND:20130425T180000Z
X-MICROSOFT-CDO-ALLDAYEVENT:FALSE
SUMMARY:2013 Lunchtime Learning - Marketing with Constant Contact 04.25.2013
DESCRIPTION:TOPIC:\n\nPower of Email Marketing\n\nSuper Charge Your Facebook Marketing\n\n\n\nBONUS: Two Sessions   One Meeting!\n\n\n\nPresented by: Jeff Ferrazzo\n\n    Constant Contact Regional Development Director for Minnesota\n\n\n\n\n\nWho should attend:\n\nSmall Business Owners\n\nMarketing/Retail Promotions Staff\n\nAnyone interested in growing small business
X-ALT-DESC;FMTTYPE=text/html:&nbsp\;<u>TOPIC:</u><br />\nPower of Email Marketing<br />\nSuper Charge Your Facebook Marketing<br />\n<br />\nBONUS: Two Sessions &ndash\; One Meeting!<br />\n<br />\nPresented by: Jeff Ferrazzo<br />\n&nbsp\;&nbsp\;&nbsp\; Constant Contact Regional Development Director for Minnesota<br />\n<br />\n<br />\n<u>Who should attend:</u><br />\nSmall Business Owners<br />\nMarketing/Retail Promotions Staff<br />\nAnyone interested in growing small business<br />\n<br />\n<br />\n&nbsp\;
LOCATION:The Winona Area Chamber of Commerce 902 E. 2nd Street\, Suite 120 Cost: $15.00/per person Lunch and Materials provided
UID:e.1434.1264
SEQUENCE:3
DTSTAMP:20260422T190133Z
URL:http://business.winonachamber.com/events/details/2013-lunchtime-learning-marketing-with-constant-contact-04-25-2013-04-25-2013-1264
END:VEVENT

END:VCALENDAR
