BEGIN:VCALENDAR
VERSION:2.0
PRODID:-//ChamberMaster//Event Calendar 2.0//EN
METHOD:PUBLISH
X-PUBLISHED-TTL:P3D
REFRESH-INTERVAL:P3D
CALSCALE:GREGORIAN
BEGIN:VEVENT
DTSTART:20130228T173000Z
DTEND:20130228T190000Z
X-MICROSOFT-CDO-ALLDAYEVENT:FALSE
SUMMARY:2013 Lunchtime Learning Series 2 - How do they do it? 02.28
DESCRIPTION:Lunchtime Learning \n\n	How do they do it?\n\n	Thursday\, February 28th\n\n	11:30 a.m. - 1:00 p.m.\n\n	Featuring local business leaders and how they built their career/business!
X-ALT-DESC;FMTTYPE=text/html:<p>\n	<strong><span style="color:green\;"><span style="font-family:segoe print\;"><span style="font-size:14.0pt\;">Lunchtime Learning&nbsp\;</span></span></span></strong><br />\n	<span style="color:green\;"><span style="font-family:segoe print\;"><span style="font-size:14.0pt\;">How do they do it?</span></span></span><br />\n	<span style="color:green\;"><span style="font-family:calibri\,sans-serif\;">Thursday\, February 28th</span></span><br />\n	<span style="color:green\;"><span style="font-family:calibri\,sans-serif\;">11:30 a.m. - 1:00 p.m.</span></span><br />\n	<span style="color:green\;"><span style="font-family:calibri\,sans-serif\;">Featuring local business leaders and how they built their career/business!</span></span><br />\n	&nbsp\;</p>\n
LOCATION:Chamber of Commerce Training Room 902 East Second Street Suite 120
UID:e.1434.1249
SEQUENCE:3
DTSTAMP:20260422T220648Z
URL:http://business.winonachamber.com/events/details/2013-lunchtime-learning-series-2-how-do-they-do-it-02-28-02-28-2013-1249
END:VEVENT

END:VCALENDAR
