BEGIN:VCALENDAR
VERSION:2.0
PRODID:-//ChamberMaster//Event Calendar 2.0//EN
METHOD:PUBLISH
X-PUBLISHED-TTL:P3D
REFRESH-INTERVAL:P3D
CALSCALE:GREGORIAN
BEGIN:VEVENT
DTSTART:20131121T180000Z
DTEND:20131121T190000Z
X-MICROSOFT-CDO-ALLDAYEVENT:FALSE
SUMMARY:2013 Lunchtime Learning - Servant Leadership
DESCRIPTION:2013 Lunchtime Learning Seminar Series\n\n\n\nServant leadership: Seriously\, it's not just about you.\n\nMaking the best of leadership lessons learned the hard way.\n\n\n\nSpeaker: Rusty Cunningham\, Publisher Winona Daily News
X-ALT-DESC;FMTTYPE=text/html:<strong><span style="font-size:16px\;"><span style="font-family: times new roman\;">2013 Lunchtime Learning Seminar Series<br />\n<br />\nServant leadership: Seriously\, it&rsquo\;s not just about you.<br />\nMaking the best of leadership lessons learned the hard way.</span></span></strong><br />\n<br />\n<strong><span style="font-size:14px\;"><span style="font-family: times new roman\;">Speaker: Rusty Cunningham\, Publisher Winona Daily News</span></span></strong>
LOCATION:Chamber of Commerce Training Room 902 East Second Street Suite 120
UID:e.1434.928
SEQUENCE:3
DTSTAMP:20260420T075110Z
URL:http://business.winonachamber.com/events/details/2013-lunchtime-learning-servant-leadership-11-21-2013-928
END:VEVENT

END:VCALENDAR
