BEGIN:VCALENDAR
VERSION:2.0
PRODID:-//ChamberMaster//Event Calendar 2.0//EN
METHOD:PUBLISH
X-PUBLISHED-TTL:P3D
REFRESH-INTERVAL:P3D
CALSCALE:GREGORIAN
BEGIN:VEVENT
DTSTART:20131101T221500Z
DTEND:20131102T024500Z
X-MICROSOFT-CDO-ALLDAYEVENT:FALSE
SUMMARY:2013 Main Street Progressive Fundraiser Dinner
DESCRIPTION:Main Street Progressive\n\nFundraiser Dinner\n\n \n\nFriday\, November 1st\n\n5:15 p.m. - 9:45 p.m.\n\nBegin at Winona National Bank\n\n204 Main Street
X-ALT-DESC;FMTTYPE=text/html:<span style="color:#0871c8\;"><span style="font-family:trebuchet ms\,sans-serif\;"><span style="font-size:36.0pt\;">Main Street Progressive</span></span></span><br />\n<span style="color:#0871c8\;"><span style="font-family:trebuchet ms\,sans-serif\;"><span style="font-size:36.0pt\;">Fundraiser Dinner</span></span></span><br />\n&nbsp\;<br />\n<span style="color:#0871c8\;"><span style="font-family:trebuchet ms\,sans-serif\;"><span style="font-size:20.0pt\;">Friday\, November 1<sup>st</sup></span></span></span><br />\n<span style="color:#0871c8\;"><span style="font-family:trebuchet ms\,sans-serif\;"><span style="font-size:20.0pt\;">5:15 p.m. - 9:45 p.m.</span></span></span><br />\n<span style="color:#0871c8\;"><span style="font-family:trebuchet ms\,sans-serif\;"><span style="font-size:20.0pt\;">Begin at Winona National Bank</span></span></span><br />\n<span style="color:#0871c8\;"><span style="font-family:trebuchet ms\,sans-serif\;"><span style="font-size:20.0pt\;">204 Main Street</span></span></span><br />\n&nbsp\;
LOCATION:There will be 4 locations we will visit: Winona National Bank Hors D'oeuvres and Wine/Beer Cash Bar Winona County History Center Soup/Salad Masonic Temple Entr e and a Wine/Beer Cash Bar Winona Public Library Dessert and Door Prize Drawing
UID:e.1434.2112
SEQUENCE:3
DTSTAMP:20260420T075333Z
URL:http://business.winonachamber.com/events/details/2013-main-street-progressive-fundraiser-dinner-11-01-2013-2112
END:VEVENT

END:VCALENDAR
