BEGIN:VCALENDAR
VERSION:2.0
PRODID:-//ChamberMaster//Event Calendar 2.0//EN
METHOD:PUBLISH
X-PUBLISHED-TTL:P3D
REFRESH-INTERVAL:P3D
CALSCALE:GREGORIAN
BEGIN:VEVENT
DTSTART:20131024T163000Z
DTEND:20131024T180000Z
X-MICROSOFT-CDO-ALLDAYEVENT:FALSE
SUMMARY:2013 Manufacturer's & Technology Week Luncheon
DESCRIPTION:Winona Area Chamber of Commerce\n\n2013 Manufacturer's & Technology Week Luncheon\n\n\n\nKeynote Speaker:  Bill Blazar\, SR VP MN Chamber of Commerce
X-ALT-DESC;FMTTYPE=text/html:Winona Area Chamber of Commerce<br />\n2013 Manufacturer&#39\;s &amp\; Technology Week Luncheon<br />\n<br />\nKeynote Speaker:&nbsp\; Bill Blazar\, SR VP MN Chamber of Commerce<br />\n
LOCATION:Riverport Inn 900 Bruski Drive Winona\, MN 55987
UID:e.1434.1197
SEQUENCE:3
DTSTAMP:20260420T111432Z
URL:http://business.winonachamber.com/events/details/2013-manufacturer-s-technology-week-luncheon-10-24-2013-1197
END:VEVENT

END:VCALENDAR
