BEGIN:VCALENDAR
VERSION:2.0
PRODID:-//ChamberMaster//Event Calendar 2.0//EN
METHOD:PUBLISH
X-PUBLISHED-TTL:P3D
REFRESH-INTERVAL:P3D
CALSCALE:GREGORIAN
BEGIN:VEVENT
DTSTART:20131023T140000Z
DTEND:20131023T153000Z
X-MICROSOFT-CDO-ALLDAYEVENT:FALSE
SUMMARY:2013 Manufacturers & Technology Week - Benchmark Electronics Tour
DESCRIPTION:Manufacturers & Technology Week\n\nBenchmark Electronics Tour
X-ALT-DESC;FMTTYPE=text/html:<span style="font-size:14px\;"><strong>Manufacturers &amp\; Technology Week</strong><br />\n<strong>Benchmark Electronics Tour</strong></span>
LOCATION:4065 Theurer Blvd.
UID:e.1434.2108
SEQUENCE:3
DTSTAMP:20260422T091929Z
URL:http://business.winonachamber.com/events/details/2013-manufacturers-technology-week-benchmark-electronics-tour-10-23-2013-2108
END:VEVENT

END:VCALENDAR
