BEGIN:VCALENDAR
VERSION:2.0
PRODID:-//ChamberMaster//Event Calendar 2.0//EN
METHOD:PUBLISH
X-PUBLISHED-TTL:P3D
REFRESH-INTERVAL:P3D
CALSCALE:GREGORIAN
BEGIN:VEVENT
DTSTART:20131024T190000Z
DTEND:20131024T200000Z
X-MICROSOFT-CDO-ALLDAYEVENT:FALSE
SUMMARY:2013 Manufacturers & Technology Week - Knitcraft Tour
DESCRIPTION:Manufacturer & Technology Week Tours\n\nKnitcraft\n\n\n\nClosed Toe Shoes required
X-ALT-DESC;FMTTYPE=text/html:Manufacturer &amp\; Technology Week Tours<br />\nKnitcraft<br />\n<br />\nClosed Toe Shoes required
LOCATION:4020 West Sixth Street Winona
UID:e.1434.2114
SEQUENCE:3
DTSTAMP:20260420T094557Z
URL:http://business.winonachamber.com/events/details/2013-manufacturers-technology-week-knitcraft-tour-10-24-2013-2114
END:VEVENT

END:VCALENDAR
