BEGIN:VCALENDAR
VERSION:2.0
PRODID:-//ChamberMaster//Event Calendar 2.0//EN
METHOD:PUBLISH
X-PUBLISHED-TTL:P3D
REFRESH-INTERVAL:P3D
CALSCALE:GREGORIAN
BEGIN:VEVENT
DTSTART:20131023T180000Z
DTEND:20131023T193000Z
X-MICROSOFT-CDO-ALLDAYEVENT:FALSE
SUMMARY:2013 Manufacturers & Technology Week - Riverstar Tour
DESCRIPTION:Manufacturers & Technology Week\n\nRiverstar Tour
X-ALT-DESC;FMTTYPE=text/html:<span style="font-size:14px\;"><strong>Manufacturers &amp\; Technology Week</strong><br />\n<strong>Riverstar Tour</strong></span>
LOCATION:
UID:e.1434.2119
SEQUENCE:3
DTSTAMP:20260420T094358Z
URL:http://business.winonachamber.com/events/details/2013-manufacturers-technology-week-riverstar-tour-10-23-2013-2119
END:VEVENT

END:VCALENDAR
