BEGIN:VCALENDAR
VERSION:2.0
PRODID:-//ChamberMaster//Event Calendar 2.0//EN
METHOD:PUBLISH
X-PUBLISHED-TTL:P3D
REFRESH-INTERVAL:P3D
CALSCALE:GREGORIAN
BEGIN:VEVENT
DTSTART:20130109T220000Z
DTEND:20130110T030000Z
X-MICROSOFT-CDO-ALLDAYEVENT:FALSE
SUMMARY:2013 MN Chamber Sessions Priority Dinner
DESCRIPTION:This high profile reception and dinner has a typical sell out crowd of over 1\,500 business leaders\, elected officials\, association representatives and local chambers of commerce. A traditional program features the legislative leadership providing their views on the top priorities for the upcoming session. The Governor is invited to present the Administration's priorities for the upcoming year and the Chamber's policy agenda on key business issues are introduced.\n\n\n\nAgenda\n\n4:00-5:30 p.m.   Presentation of Priorities\n\n5:00 p.m.   Reception\n\n6:45 p.m.   Opening Address\n\n7:00-8:00 p.m.   Dinner\n\n8:00-9:00 p.m.   Program\n\n9:00 p.m.   Adjourn
X-ALT-DESC;FMTTYPE=text/html:This high profile reception and dinner has a typical sell out crowd of over 1\,500 business leaders\, elected officials\, association representatives and local chambers of commerce. A traditional program features the legislative leadership providing their views on the top priorities for the upcoming session. The Governor is invited to present the Administration&#39\;s priorities for the upcoming year and the Chamber&#39\;s policy agenda on key business issues are introduced.<br />\n<br />\n<span class="cm_editor_fix"><strong>Agenda</strong><br />\n4:00-5:30 p.m. &ndash\; Presentation of Priorities<br />\n5:00 p.m. &ndash\; Reception<br />\n6:45 p.m. &ndash\; Opening Address<br />\n7:00-8:00 p.m. &ndash\; Dinner<br />\n8:00-9:00 p.m. &ndash\; Program<br />\n9:00 p.m. &ndash\; Adjourn</span>
LOCATION:Saint Paul RiverCentre 175 West Kellogg Boulevard Saint Paul\, MN 55102 Carpooling options available
UID:e.1434.1194
SEQUENCE:3
DTSTAMP:20260422T233215Z
URL:http://business.winonachamber.com/events/details/2013-mn-chamber-sessions-priority-dinner-01-09-2013-1194
END:VEVENT

END:VCALENDAR
