BEGIN:VCALENDAR
VERSION:2.0
PRODID:-//ChamberMaster//Event Calendar 2.0//EN
METHOD:PUBLISH
X-PUBLISHED-TTL:P3D
REFRESH-INTERVAL:P3D
CALSCALE:GREGORIAN
BEGIN:VEVENT
DTSTART:20130208T140000Z
DTEND:20130208T143000Z
X-MICROSOFT-CDO-ALLDAYEVENT:FALSE
SUMMARY:2013 MN State Legislative Issues Update Briefing 02.08
DESCRIPTION:Light Refreshments will be served
X-ALT-DESC;FMTTYPE=text/html:Light Refreshments will be served
LOCATION:Winona Area Chamber of Commerce Conference Room 902 E. 2nd Street\, Suite 120
UID:e.1434.1257
SEQUENCE:3
DTSTAMP:20260422T220337Z
URL:http://business.winonachamber.com/events/details/2013-mn-state-legislative-issues-update-briefing-02-08-02-08-2013-1257
END:VEVENT

END:VCALENDAR
