BEGIN:VCALENDAR
VERSION:2.0
PRODID:-//ChamberMaster//Event Calendar 2.0//EN
METHOD:PUBLISH
X-PUBLISHED-TTL:P3D
REFRESH-INTERVAL:P3D
CALSCALE:GREGORIAN
BEGIN:VEVENT
DTSTART:20130412T130000Z
DTEND:20130412T133000Z
X-MICROSOFT-CDO-ALLDAYEVENT:FALSE
SUMMARY:2013 MN State Legislative Issues Update Briefing 04.12.13
DESCRIPTION:Light Refreshments will be served
X-ALT-DESC;FMTTYPE=text/html:Light Refreshments will be served&nbsp\;&nbsp\;&nbsp\; 
LOCATION:Winona Area Chamber of Commerce Conference Room 902 East Second Street Suite 120
UID:e.1434.1660
SEQUENCE:3
DTSTAMP:20260422T185835Z
URL:http://business.winonachamber.com/events/details/2013-mn-state-legislative-issues-update-briefing-04-12-13-04-12-2013-1660
END:VEVENT

END:VCALENDAR
