BEGIN:VCALENDAR
VERSION:2.0
PRODID:-//ChamberMaster//Event Calendar 2.0//EN
METHOD:PUBLISH
X-PUBLISHED-TTL:P3D
REFRESH-INTERVAL:P3D
CALSCALE:GREGORIAN
BEGIN:VEVENT
DTSTART:20130517T130000Z
DTEND:20130517T133000Z
X-MICROSOFT-CDO-ALLDAYEVENT:FALSE
SUMMARY:2013 MN State Legislative Issues Update Briefing 2013 05.17
DESCRIPTION:MN State Legislative Issues Update Briefing Friday\, May 17\, 2013\n\n\n\n8:00 am sharp   adjourn at 8:30 am\n\n\n\nChamber Conference/Training Room\n\n902 East Second St\, Suite 120\n\n\n\nLight refreshments will be served\n\n\n\nPlease RSVP your attendance by replying to this email\, or reply to info@winonachamber.com\, or by phoning the Chamber Office at (507) 452-2272.Light Refreshments will be served
X-ALT-DESC;FMTTYPE=text/html:<strong>MN State Legislative Issues Update Briefing </strong><strong><u>Friday\, May 17\, 2013</u></strong><br />\n<br />\n8:00 am sharp &ndash\; adjourn at 8:30 am<br />\n<br />\nChamber Conference/Training Room<br />\n902 East Second St\, Suite 120<br />\n<br />\nLight refreshments will be served<br />\n<br />\nPlease RSVP your attendance by replying to this email\, or reply to <a href="mailto:info@winonachamber.com">info@winonachamber.com</a>\, or by phoning the Chamber Office at (507) 452-2272.Light Refreshments will be served&nbsp\;&nbsp\;&nbsp\; 
LOCATION:Winona Area Chamber of Commerce Conference Room 902 East Second Street Suite 120
UID:e.1434.2074
SEQUENCE:3
DTSTAMP:20260422T185733Z
URL:http://business.winonachamber.com/events/details/2013-mn-state-legislative-issues-update-briefing-2013-05-17-05-17-2013-2074
END:VEVENT

END:VCALENDAR
