BEGIN:VCALENDAR
VERSION:2.0
PRODID:-//ChamberMaster//Event Calendar 2.0//EN
METHOD:PUBLISH
X-PUBLISHED-TTL:P3D
REFRESH-INTERVAL:P3D
CALSCALE:GREGORIAN
BEGIN:VEVENT
DTSTART:20130207T230000Z
DTEND:20130208T010000Z
X-MICROSOFT-CDO-ALLDAYEVENT:FALSE
SUMMARY:2013 Network Nite 02.07
DESCRIPTION:Network Nite \n\nBring your business cards and come network with your fellow Chamber members!\n\n \n\nFREE and open to ALL Chamber members
X-ALT-DESC;FMTTYPE=text/html:<span style="font-size: 14px"><strong>Network Nite </strong></span><br />\n<span style="font-size: 14px"><span style="font-family: calibri\, sans-serif">Bring your business cards and come network with your fellow Chamber members!</span><br />\n&nbsp\;<br />\n<span style="font-family: calibri\, sans-serif">FREE and open to ALL Chamber members</span></span><br />\n&nbsp\;
LOCATION:MN State College Southeast Technical 1250 Homer Road
UID:e.1434.1245
SEQUENCE:3
DTSTAMP:20260422T220434Z
URL:http://business.winonachamber.com/events/details/2013-network-nite-02-07-02-07-2013-1245
END:VEVENT

END:VCALENDAR
