BEGIN:VCALENDAR
VERSION:2.0
PRODID:-//ChamberMaster//Event Calendar 2.0//EN
METHOD:PUBLISH
X-PUBLISHED-TTL:P3D
REFRESH-INTERVAL:P3D
CALSCALE:GREGORIAN
BEGIN:VEVENT
DTSTART:20130912T220000Z
DTEND:20130913T000000Z
X-MICROSOFT-CDO-ALLDAYEVENT:FALSE
SUMMARY:2013 Network Nite September 12th
DESCRIPTION:Network Nite - Sponsored by Eastwood Bank\n\nBring your business cards and come network with your fellow Chamber members!\n\n \n\nFREE and open to ALL Chamber members
X-ALT-DESC;FMTTYPE=text/html:<span style="font-size:14px\;"><strong>Network Nite </strong>-<strong> Sponsored by Eastwood Bank</strong><br />\nBring your business cards and come network with your fellow Chamber members!<br />\n&nbsp\;<br />\nFREE and open to ALL Chamber members</span><br />\n<span style="font-family:times new roman\;">&nbsp\;</span>
LOCATION:Winona History Center 160 Johnson Street
UID:e.1434.2104
SEQUENCE:3
DTSTAMP:20260420T112234Z
URL:http://business.winonachamber.com/events/details/2013-network-nite-september-12th-09-12-2013-2104
END:VEVENT

END:VCALENDAR
