BEGIN:VCALENDAR
VERSION:2.0
PRODID:-//ChamberMaster//Event Calendar 2.0//EN
METHOD:PUBLISH
X-PUBLISHED-TTL:P3D
REFRESH-INTERVAL:P3D
CALSCALE:GREGORIAN
BEGIN:VEVENT
DTSTART:20131129T150000Z
DTEND:20131130T000000Z
X-MICROSOFT-CDO-ALLDAYEVENT:FALSE
SUMMARY:2013 Not-So Black Friday
DESCRIPTION:Not-So Black Friday\n\n\n\nBeat the Big Box Blues!\n\n\n\nShop in a calm \, worry free\n\nenvironment\n\nThe Best service & deals are in DownTown Winona\n\n\n\nNov. 29th 9am-6pm
X-ALT-DESC;FMTTYPE=text/html:<span style="font-size:16px\;"><span style="font-family: times new roman\;"><strong>Not-So Black Friday<br />\n<br />\nBeat the Big Box Blues!</strong></span></span><br />\n<br />\n<span style="font-size:14px\;"><strong>Shop in a calm \, worry free<br />\nenvironment<br />\nThe Best service &amp\; deals are in DownTown Winona<br />\n<br />\nNov. 29th 9am-6pm</strong></span>
LOCATION:Historic Downtown Winona
UID:e.1434.2124
SEQUENCE:3
DTSTAMP:20260420T075249Z
URL:http://business.winonachamber.com/events/details/2013-not-so-black-friday-11-29-2013-2124
END:VEVENT

END:VCALENDAR
