BEGIN:VCALENDAR
VERSION:2.0
PRODID:-//ChamberMaster//Event Calendar 2.0//EN
METHOD:PUBLISH
X-PUBLISHED-TTL:P3D
REFRESH-INTERVAL:P3D
CALSCALE:GREGORIAN
BEGIN:VEVENT
DTSTART:20130129T173000Z
DTEND:20130129T190000Z
X-MICROSOFT-CDO-ALLDAYEVENT:FALSE
SUMMARY:2013 Power Lunch - Bridge Meeting 01.29
DESCRIPTION:Power Lunch/Bridge Meeting with MN Department of Transportation\n\n\n\n    -Update on Bridge construction plans\n\n    -Inspection plans for existing bridge 2013-2017\n\n    -Plans to assure current bridge functionality until new project is complete
X-ALT-DESC;FMTTYPE=text/html:Power Lunch/Bridge Meeting with MN Department of Transportation<br />\n<br />\n&nbsp\;&nbsp\;&nbsp\; -Update on Bridge construction plans<br />\n&nbsp\;&nbsp\;&nbsp\; -Inspection plans for existing bridge 2013-2017<br />\n&nbsp\;&nbsp\;&nbsp\; -Plans to assure current bridge functionality until new project is complete
LOCATION:Winona Area Chamber of Commerce 902 E. 2nd Street\, Suite 120
UID:e.1434.1240
SEQUENCE:3
DTSTAMP:20260422T233500Z
URL:http://business.winonachamber.com/events/details/2013-power-lunch-bridge-meeting-01-29-01-29-2013-1240
END:VEVENT

END:VCALENDAR
