BEGIN:VCALENDAR
VERSION:2.0
PRODID:-//ChamberMaster//Event Calendar 2.0//EN
METHOD:PUBLISH
X-PUBLISHED-TTL:P3D
REFRESH-INTERVAL:P3D
CALSCALE:GREGORIAN
BEGIN:VEVENT
DTSTART:20131022T121500Z
DTEND:20131022T143000Z
X-MICROSOFT-CDO-ALLDAYEVENT:FALSE
SUMMARY:2013 Selling Value in a Price Driven Market
DESCRIPTION:Selling Value in a Price Driven Market\n\n	\n		Stand Out From Your Competitors\n	\n		Secure Higher Margins\n	\n		Drive More Sales\n\n \n\nTrainer: Mick Frank   \n\nCambria District Manager for 5 State Area\n\nGraduate of Carleton College\, Graduate of William Mitchell College of Law\, Business owner from 1990   2008\n\n \n\n"Every time we have Mick Frank conduct a training program\, our members ask us when he will be back so that they can send others or come back for more themselves!"\n\n\n	\n		Mankato Growth/Mankato Area Chamber of Commerce\n\n \n\nWhen: Tuesday\, October 22\, 2013\n\n            -     Check in and breakfast  7:15 am\n\n\n	\n		Program   7:30 - 9:30 am\n\n \n\nWho Should Attend:\n\n\n	\n		Business Owners & Managers\n	\n		Sales & Marketing Professionals\n	\n		ANYONE who has a product or service
X-ALT-DESC;FMTTYPE=text/html:<p>\n	<span style="color:blue\;"><span style="font-family:arial\,sans-serif\;"><span style="font-size:14.0pt\;">Selling Value in&nbsp\;a Price Driven Market</span></span></span></p>\n<ul>\n	<li>\n		<span style="color:blue\;"><span style="font-family:arial\,sans-serif\;"><span style="font-size:10.0pt\;">Stand Out From Your Competitors</span></span></span></li>\n	<li>\n		<span style="color:blue\;"><span style="font-family:arial\,sans-serif\;"><span style="font-size:10.0pt\;">Secure Higher Margins</span></span></span></li>\n	<li>\n		<span style="color:blue\;"><span style="font-family:arial\,sans-serif\;"><span style="font-size:10.0pt\;">Drive More Sales</span></span></span></li>\n</ul>\n&nbsp\;<br />\n<span style="color:blue\;"><span style="font-family:arial\,sans-serif\;"><span style="font-size:10.0pt\;">Trainer: Mick Frank &ndash\; </span></span></span><br />\n<span style="color:blue\;"><span style="font-family:arial\,sans-serif\;"><span style="font-size:10.0pt\;">Cambria District Manager for 5 State Area</span></span></span><br />\n<span style="color:blue\;"><span style="font-family:arial\,sans-serif\;"><span style="font-size:10.0pt\;">Graduate of Carleton College\, Graduate of William Mitchell College of Law\, Business owner from 1990 &ndash\; 2008</span></span></span><br />\n&nbsp\;<br />\n<span style="color:blue\;"><span style="font-family:arial\,sans-serif\;"><span style="font-size:10.0pt\;">&ldquo\;Every time we have Mick Frank conduct a training program\, our members ask us when he will be back so that they can send others&hellip\;or come back for more themselves!&rdquo\;</span></span></span><br />\n<ul>\n	<li>\n		<span style="color:blue\;"><span style="font-family:arial\,sans-serif\;"><span style="font-size:10.0pt\;">Mankato Growth/Mankato Area Chamber of Commerce</span></span></span></li>\n</ul>\n&nbsp\;<br />\n<span style="color:blue\;"><span style="font-family:arial\,sans-serif\;"><span style="font-size:10.0pt\;">When: Tuesday\, October 22\, 2013<br />\n&nbsp\;&nbsp\;&nbsp\;&nbsp\;&nbsp\;&nbsp\;&nbsp\;&nbsp\;&nbsp\;&nbsp\;&nbsp\; -&nbsp\;&nbsp\;&nbsp\;&nbsp\; Check in and breakfast&ndash\; 7:15 am</span></span></span><br />\n<ul>\n	<li>\n		<span style="color:blue\;"><span style="font-family:arial\,sans-serif\;"><span style="font-size:10.0pt\;">Program &ndash\; 7:30 - 9:30 am</span></span></span></li>\n</ul>\n&nbsp\;<br />\n<span style="color:blue\;"><span style="font-family:arial\,sans-serif\;"><span style="font-size:10.0pt\;">Who Should Attend:</span></span></span><br />\n<ul>\n	<li>\n		<span style="color:blue\;"><span style="font-family:arial\,sans-serif\;"><span style="font-size:10.0pt\;">Business Owners &amp\; Managers</span></span></span></li>\n	<li>\n		<span style="color:blue\;"><span style="font-family:arial\,sans-serif\;"><span style="font-size:10.0pt\;">Sales &amp\; Marketing Professionals</span></span></span></li>\n	<li>\n		<span style="color:blue\;"><span style="font-family:arial\,sans-serif\;"><span style="font-size:10.0pt\;">ANYONE who has a product or service</span></span></span></li>\n</ul>\n&nbsp\;
LOCATION:Riverport Inn and Suites
UID:e.1434.2116
SEQUENCE:3
DTSTAMP:20260420T112958Z
URL:http://business.winonachamber.com/events/details/2013-selling-value-in-a-price-driven-market-10-22-2013-2116
END:VEVENT

END:VCALENDAR
