BEGIN:VCALENDAR
VERSION:2.0
PRODID:-//ChamberMaster//Event Calendar 2.0//EN
METHOD:PUBLISH
X-PUBLISHED-TTL:P3D
REFRESH-INTERVAL:P3D
CALSCALE:GREGORIAN
BEGIN:VEVENT
DTSTART:20140517T130000Z
DTEND:20140517T150000Z
X-MICROSOFT-CDO-ALLDAYEVENT:FALSE
SUMMARY:2013 Spring Spruce Up
DESCRIPTION:v\\:* {behavior:url(#default#VML)\;}\no\\:* {behavior:url(#default#VML)\;}\nb\\:* {behavior:url(#default#VML)\;}\n.shape {behavior:url(#default#VML)\;}\n\n\nBYOB!  (Bring Your Own Broom) And enjoy being around people with the same passion of helping to spruce up our downtown!  Between 30-40 people have pledged to help out.  Our goal will be to spruce up Third Street and a portion of Fourth Street.  If more sign up\, we will take on portions of Second Street.\n\n \n\n \n  281\n  \n   7772400\n   10058400\n  \n  259\n  261\n  257\n  276\n  262\n  279\n  1\n  0``````````````````````\n  5\n  1\n  0\n  285\n \n \n  282\n  1\n  False\n  0\n  0\n  0\n  0\n \n \n  \n   \n    \n     -1\n    \n   \n  \n  304800\n  243\n  True\n  128\n  77\n  255\n  3175\n  3175\n  70\n  True\n  True\n  True\n  True\n  True\n \n \n  278\n  \n   134217728\n  \n \n \n  1\n  \n   \n    1\n    -9999996.000000\n    -9999996.000000\n   \n  \n \n \n  8\n  \n   Empty\n   \n    6710835\n   \n   \n    3394815\n   \n   \n    153\n   \n   \n    13421772\n   \n   \n    26316\n   \n   \n    32896\n   \n   \n    16777215\n   \n  \n  54\n  Trout\n \n \n \n\n \n  \n   22860000\n   22860000\n  \n  (`@`````````\n  266\n  263\n  5\n  \n   110185200\n   110185200
X-ALT-DESC;FMTTYPE=text/html:<!--[if !mso]>\n<style>\nv\\:* {behavior:url(#default#VML)\;}\no\\:* {behavior:url(#default#VML)\;}\nb\\:* {behavior:url(#default#VML)\;}\n.shape {behavior:url(#default#VML)\;}\n</style>\n<![endif]-->\n<p class="MsoBodyText3" style="mso-pagination:none\;text-align:center\;text-align:\ncenter"><span lang="en-US" style="font-size:14.0pt\;line-height:113%\;font-family:\n&quot\;Agency FB&quot\;\;language:en-US\;mso-ansi-language:en-US">BYOB!<span style="mso-spacerun:yes">&nbsp\; </span>(Bring Your Own Broom) And enjoy being around people with the same passion of helping to spruce up our downtown!<span style="mso-spacerun:yes">&nbsp\; </span>Between 30-40 people have pledged to help out.<span style="mso-spacerun:yes">&nbsp\; </span>Our goal will be to spruce up Third Street and a portion of Fourth Street.<span style="mso-spacerun:yes">&nbsp\; </span>If more sign up\, we will take on portions of Second Street.</span></p>\n\n<p class="MsoNormal" style="mso-pagination:none"><span lang="en-US" style="language:en-US">&nbsp\;</span></p>\n<!--[if pub]><xml>\n <b:Publication type="OplPub" oty="68" oh="256">\n  <b:OhPrintBlock priv="30E">281</b:OhPrintBlock>\n  <b:DptlPageDimensions type="OplPt" priv="1211">\n   <b:Xl priv="104">7772400</b:Xl>\n   <b:Yl priv="204">10058400</b:Yl>\n  </b:DptlPageDimensions>\n  <b:OhGallery priv="180E">259</b:OhGallery>\n  <b:OhFancyBorders priv="190E">261</b:OhFancyBorders>\n  <b:OhCaptions priv="1A0E">257</b:OhCaptions>\n  <b:OhQuillDoc priv="200E">276</b:OhQuillDoc>\n  <b:OhMailMergeData priv="210E">262</b:OhMailMergeData>\n  <b:OhColorScheme priv="220E">279</b:OhColorScheme>\n  <b:DwNextUniqueOid priv="2304">1</b:DwNextUniqueOid>\n  <b:IdentGUID priv="2A07">0``````````````````````</b:IdentGUID>\n  <b:DpgSpecial priv="2C03">5</b:DpgSpecial>\n  <b:CTimesEdited priv="3C04">1</b:CTimesEdited>\n  <b:NuDefaultUnitsEx priv="4104">0</b:NuDefaultUnitsEx>\n  <b:OhImpositionEngine priv="440E">285</b:OhImpositionEngine>\n </b:Publication>\n <b:PrinterInfo type="OplPrb" oty="75" oh="281">\n  <b:OhColorSepBlock priv="30E">282</b:OhColorSepBlock>\n  <b:OpmOutsidePrintMode priv="B04">1</b:OpmOutsidePrintMode>\n  <b:FInitComplete priv="1400">False</b:FInitComplete>\n  <b:DpiX priv="2203">0</b:DpiX>\n  <b:DpiY priv="2303">0</b:DpiY>\n  <b:DxlOverlap priv="2404">0</b:DxlOverlap>\n  <b:DylOverlap priv="2504">0</b:DylOverlap>\n </b:PrinterInfo>\n <b:ColorSeperationInfo type="OplCsb" oty="79" oh="282">\n  <b:Plates type="OplCsp" priv="214">\n   <b:OplCsp type="OplCsp" priv="11">\n    <b:EcpPlate type="OplEcp" priv="213">\n     <b:Color priv="104">-1</b:Color>\n    </b:EcpPlate>\n   </b:OplCsp>\n  </b:Plates>\n  <b:DzlOverprintMost priv="304">304800</b:DzlOverprintMost>\n  <b:CprOverprintMin priv="404">243</b:CprOverprintMin>\n  <b:FKeepawayTrap priv="700">True</b:FKeepawayTrap>\n  <b:CprTrapMin1 priv="904">128</b:CprTrapMin1>\n  <b:CprTrapMin2 priv="A04">77</b:CprTrapMin2>\n  <b:CprKeepawayMin priv="B04">255</b:CprKeepawayMin>\n  <b:DzlTrap priv="C04">3175</b:DzlTrap>\n  <b:DzlIndTrap priv="D04">3175</b:DzlIndTrap>\n  <b:PctCenterline priv="E04">70</b:PctCenterline>\n  <b:FMarksRegistration priv="F00">True</b:FMarksRegistration>\n  <b:FMarksJob priv="1000">True</b:FMarksJob>\n  <b:FMarksDensity priv="1100">True</b:FMarksDensity>\n  <b:FMarksColor priv="1200">True</b:FMarksColor>\n  <b:FLineScreenDefault priv="1300">True</b:FLineScreenDefault>\n </b:ColorSeperationInfo>\n <b:TextDocProperties type="OplDocq" oty="91" oh="276">\n  <b:OhPlcqsb priv="20E">278</b:OhPlcqsb>\n  <b:EcpSplitMenu type="OplEcp" priv="A13">\n   <b:Color>134217728</b:Color>\n  </b:EcpSplitMenu>\n </b:TextDocProperties>\n <b:StoryBlock type="OplPlcQsb" oty="101" oh="278">\n  <b:IqsbMax priv="104">1</b:IqsbMax>\n  <b:Rgqsb type="OplQsb" priv="214">\n   <b:OplQsb type="OplQsb" priv="11">\n    <b:Qsid priv="104">1</b:Qsid>\n    <b:TomfCopyfitBase priv="80B">-9999996.000000</b:TomfCopyfitBase>\n    <b:TomfCopyfitBase2 priv="90B">-9999996.000000</b:TomfCopyfitBase2>\n   </b:OplQsb>\n  </b:Rgqsb>\n </b:StoryBlock>\n <b:ColorScheme type="OplSccm" oty="92" oh="279">\n  <b:Cecp priv="104">8</b:Cecp>\n  <b:Rgecp type="OplEcp" priv="214">\n   <b:OplEcp priv="F">Empty</b:OplEcp>\n   <b:OplEcp type="OplEcp" priv="111">\n    <b:Color>6710835</b:Color>\n   </b:OplEcp>\n   <b:OplEcp type="OplEcp" priv="211">\n    <b:Color>3394815</b:Color>\n   </b:OplEcp>\n   <b:OplEcp type="OplEcp" priv="311">\n    <b:Color>153</b:Color>\n   </b:OplEcp>\n   <b:OplEcp type="OplEcp" priv="411">\n    <b:Color>13421772</b:Color>\n   </b:OplEcp>\n   <b:OplEcp type="OplEcp" priv="511">\n    <b:Color>26316</b:Color>\n   </b:OplEcp>\n   <b:OplEcp type="OplEcp" priv="611">\n    <b:Color>32896</b:Color>\n   </b:OplEcp>\n   <b:OplEcp type="OplEcp" priv="711">\n    <b:Color>16777215</b:Color>\n   </b:OplEcp>\n  </b:Rgecp>\n  <b:IScheme priv="304">54</b:IScheme>\n  <b:SzSchemeName priv="618">Trout</b:SzSchemeName>\n </b:ColorScheme>\n <![if pub11]>\n <![endif]>\n</xml><![endif]--><!--[if pub]><xml>\n <b:Page type="OplPd" oty="67" oh="265">\n  <b:PtlvOrigin type="OplPt" priv="511">\n   <b:Xl>22860000</b:Xl>\n   <b:Yl>22860000</b:Yl>\n  </b:PtlvOrigin>\n  <b:Oid priv="605">(`@`````````</b:Oid>\n  <b:OhoplWebPageProps priv="90E">266</b:OhoplWebPageProps>\n  <b:OhpdMaster priv="D0D">263</b:OhpdMaster>\n  <b:PgtType priv="1004">5</b:PgtType>\n  <b:PtlvOriginEx type="OplPt" priv="1111">\n   <b:Xl>110185200</b:Xl>\n   <b:Yl>110185200</b:Yl>\n  </b:PtlvOriginEx>\n </b:Page>\n</xml><![endif]--><!--[if gte mso 9]><xml>\n <o:shapedefaults v:ext="edit" spidmax="3075" fill="f" fillcolor="white [7]"\n  strokecolor="black [0]">\n  <v:fill color="white [7]" color2="white [7]" on="f"/>\n  <v:stroke color="black [0]" color2="white [7]">\n   <o:left v:ext="view" color="black [0]" color2="white [7]"/>\n   <o:top v:ext="view" color="black [0]" color2="white [7]"/>\n   <o:right v:ext="view" color="black [0]" color2="white [7]"/>\n   <o:bottom v:ext="view" color="black [0]" color2="white [7]"/>\n   <o:column v:ext="view" color="black [0]" color2="white [7]"/>\n  </v:stroke>\n  <v:shadow color="#ccc [4]"/>\n  <v:textbox inset="2.88pt\,2.88pt\,2.88pt\,2.88pt"/>\n  <o:colormenu v:ext="edit" fillcolor="#366 [1]" strokecolor="black [0]"\n   shadowcolor="#ccc [4]"/>\n </o:shapedefaults><o:shapelayout v:ext="edit">\n  <o:idmap v:ext="edit" data="1"/>\n </o:shapelayout></xml><![endif]-->
LOCATION:Downtown Winona
UID:e.1434.2177
SEQUENCE:3
DTSTAMP:20260419T215624Z
URL:http://business.winonachamber.com/events/details/2013-spring-spruce-up-05-17-2014-2177
END:VEVENT

END:VCALENDAR
