BEGIN:VCALENDAR
VERSION:2.0
PRODID:-//ChamberMaster//Event Calendar 2.0//EN
METHOD:PUBLISH
X-PUBLISHED-TTL:P3D
REFRESH-INTERVAL:P3D
CALSCALE:GREGORIAN
BEGIN:VEVENT
DTSTART:20130928T140000Z
DTEND:20130928T170000Z
X-MICROSOFT-CDO-ALLDAYEVENT:FALSE
SUMMARY:2013 Walk to End Alzheimer's
DESCRIPTION:The Alzheimer's Association Walk to End Alzheimer's is the nation's largest event to raise awareness and funds for Alzheimer's care\, support and research. Held annually in more than 600 communities nationwide\, this inspiring event calls on participants of all ages and abilities to reclaim the future for millions. Together\, we can end Alzheimer's disease\, the nation's sixth-leading cause of death. Join us at the Winona Walk to End Alzheimer's at Jaycee Shelter on September 28th\, 2013 to support our mission to have a world without Alzheimer's.
X-ALT-DESC;FMTTYPE=text/html:<span style="color: rgb(52\, 54\, 55)\; font-family: Verdana\, sans-serif\; font-size: 13px\;">The Alzheimer&#39\;s Association Walk to End Alzheimer&rsquo\;s is the nation&rsquo\;s largest event to raise awareness and funds for Alzheimer&rsquo\;s care\, support and research. Held annually in more than 600 communities nationwide\, this inspiring event calls on participants of all ages and abilities to reclaim the future for millions. Together\, we can end Alzheimer&rsquo\;s disease\, the nation&rsquo\;s sixth-leading cause of death. Join us at the Winona Walk to End Alzheimer&#39\;s at Jaycee Shelter on September 28th\, 2013 to support our mission to have a world without Alzheimer&#39\;s.&nbsp\;</span>
LOCATION:Jaycee Shelter
UID:e.1434.2086
SEQUENCE:3
DTSTAMP:20260420T112605Z
URL:http://business.winonachamber.com/events/details/2013-walk-to-end-alzheimer-s-09-28-2013-2086
END:VEVENT

END:VCALENDAR
