BEGIN:VCALENDAR
VERSION:2.0
PRODID:-//ChamberMaster//Event Calendar 2.0//EN
METHOD:PUBLISH
X-PUBLISHED-TTL:P3D
REFRESH-INTERVAL:P3D
CALSCALE:GREGORIAN
BEGIN:VEVENT
DTSTART:20130124T233000Z
DTEND:20130125T010000Z
X-MICROSOFT-CDO-ALLDAYEVENT:FALSE
SUMMARY:2013 Young Professionals - After Hours 01.24
DESCRIPTION:A casual Networking Opportunity - Come socialize with Young Professionals! Those of you that attend YP After Hours will have an opportunity to meet other area Young Professionals living and working in the region and improve communication skills for personal and professional development.\n\n\n\n*Bowling is optional*
X-ALT-DESC;FMTTYPE=text/html:<span style="color:#0000ff\;"><span style="font-size: 14px\;"><span style="font-family: tahoma\;">A casual Networking Opportunity - Come socialize with Young Professionals! Those of you that attend YP After Hours will have an opportunity to meet other area Young Professionals living and working in the region and improve communication skills for personal and professional development.<br />\n<br />\n*Bowling is optional*</span></span></span>
LOCATION:Wellington's Pub & Grill 1429 West Service Drive
UID:e.1434.1195
SEQUENCE:3
DTSTAMP:20260422T233333Z
URL:http://business.winonachamber.com/events/details/2013-young-professionals-after-hours-01-24-01-24-2013-1195
END:VEVENT

END:VCALENDAR
