BEGIN:VCALENDAR
VERSION:2.0
PRODID:-//ChamberMaster//Event Calendar 2.0//EN
METHOD:PUBLISH
X-PUBLISHED-TTL:P3D
REFRESH-INTERVAL:P3D
CALSCALE:GREGORIAN
BEGIN:VEVENT
DTSTART:20131206T230000Z
DTEND:20131207T020000Z
X-MICROSOFT-CDO-ALLDAYEVENT:FALSE
SUMMARY:2013 YP Holiday Party
DESCRIPTION:Enjoy an evening of goofy holiday fun and socializing with your fellow YPs!
X-ALT-DESC;FMTTYPE=text/html:Enjoy an evening of goofy holiday fun and socializing with your fellow YPs!
LOCATION:Betty Jo's 66 Center Street Winona MN
UID:e.1434.2128
SEQUENCE:3
DTSTAMP:20260420T062354Z
URL:http://business.winonachamber.com/events/details/2013-yp-holiday-party-12-06-2013-2128
END:VEVENT

END:VCALENDAR
