BEGIN:VCALENDAR
VERSION:2.0
PRODID:-//ChamberMaster//Event Calendar 2.0//EN
METHOD:PUBLISH
X-PUBLISHED-TTL:P3D
REFRESH-INTERVAL:P3D
CALSCALE:GREGORIAN
BEGIN:VEVENT
DTSTART:20130326T050000Z
DTEND:20130326T180000Z
X-MICROSOFT-CDO-ALLDAYEVENT:FALSE
SUMMARY:2013 YP Professional Development - Generations 03.26
DESCRIPTION:Speaker - Diane Amundson\n\n\n\nGenerations - YPs - mmet the Baby Boomers\n\n\n\n12:00 p.m. - 1:00 p.m.\n\nWinona Area Chamber of Commerce Conference Room\n\n \n\nPlease RSVP by calling the Chamber at 452-2272 or email info@winonachamber.com
X-ALT-DESC;FMTTYPE=text/html:<span style="font-size: 12px"><span style="font-family: arial"><span style="color: rgb(35\,31\,32)">Speaker - Diane Amundson<br />\n<br />\nGenerations - YPs - mmet the Baby Boomers<br />\n<br />\n12:00 p.m. - 1:00 p.m.<br />\nWinona Area Chamber of Commerce Conference Room<br />\n&nbsp\;<br />\nPlease RSVP by calling the Chamber at 452-2272 or email <a href="mailto:info@winonachamber.com" shape="rect" target="_blank">info@winonachamber.com</a></span></span></span><br />\n<br />\n
LOCATION:Chamber of Commerce Conference Room 902 East Second Street Suite 120
UID:e.1434.1261
SEQUENCE:3
DTSTAMP:20260422T220434Z
URL:http://business.winonachamber.com/events/details/2013-yp-professional-development-generations-03-26-03-26-2013-1261
END:VEVENT

END:VCALENDAR
