BEGIN:VCALENDAR
VERSION:2.0
PRODID:-//ChamberMaster//Event Calendar 2.0//EN
METHOD:PUBLISH
X-PUBLISHED-TTL:P3D
REFRESH-INTERVAL:P3D
CALSCALE:GREGORIAN
BEGIN:VEVENT
DTSTART:20130528T170000Z
DTEND:20130528T180000Z
X-MICROSOFT-CDO-ALLDAYEVENT:FALSE
SUMMARY:2013 YP Professional Development - It's all happening this summer - What is in it for you?
DESCRIPTION:It's all happening this summer - What is in it for you?\n\n	Pat Mutter\, Visit Winona\n\n	Rob Thomas\, Great River Shakespeare Festival will be providing information about summer events\, recreation resources\, event dates\, volunteer opportunities\, and more!
X-ALT-DESC;FMTTYPE=text/html:<h1>\n	<span style="color: #ff0000">It&#39\;s all happening this summer - What is in it for you?</span></h1>\n<div>\n	<span style="font-family: tahoma"><span style="font-size: 14px">Pat Mutter\, Visit Winona<br />\n	Rob Thomas\, Great River Shakespeare Festival will be providing information about summer events\, recreation resources\, event dates\, volunteer opportunities\, and more!</span></span></div>\n
LOCATION:Winona Area Chamber of Commerce - Conference Room 902 East 2nd St - Suite 120
UID:e.1434.2075
SEQUENCE:3
DTSTAMP:20260422T191904Z
URL:http://business.winonachamber.com/events/details/2013-yp-professional-development-it-s-all-happening-this-summer-what-is-in-it-for-you-05-28-2013-2075
END:VEVENT

END:VCALENDAR
