BEGIN:VCALENDAR
VERSION:2.0
PRODID:-//ChamberMaster//Event Calendar 2.0//EN
METHOD:PUBLISH
X-PUBLISHED-TTL:P3D
REFRESH-INTERVAL:P3D
CALSCALE:GREGORIAN
BEGIN:VEVENT
DTSTART:20130122T060000Z
DTEND:20130122T190000Z
X-MICROSOFT-CDO-ALLDAYEVENT:FALSE
SUMMARY:2013 YP+ Professional Development - Managing Young Families and Careers 01.22
DESCRIPTION:Katy Smith\, MN Teacher of the Year 2011 will be presenting YP+ (a special program for YPs with children)\n\n\n	If you are thinking about starting a family or have a family and are not sure how to balance everything else that surrounds you - come to our Professional Development to learn more about managing young families and careers.\n\n	Expand your circle of support with other parents\, build new relationships\, share concerns and ideas!\nTuesday\, January 22nd\n\n12:00 p.m. - 1:00 p.m.\n\nWinona Area Chamber of Commerce Conference Room\n\n \n\nPlease RSVP by calling the Chamber at 452-2272 or email info@winonachamber.com
X-ALT-DESC;FMTTYPE=text/html:<span style="font-size: 12px"><span style="font-family: arial"><strong><span style="color: rgb(35\,31\,32)">Katy Smith\,</span></strong><span style="color: rgb(35\,31\,32)"> MN Teacher of the Year 2011 will be presenting YP+ (a special program for YPs with children)</span></span></span><br />\n<p>\n	If you are thinking about starting a family or have a family and are not sure how to balance everything else that surrounds you - come to our Professional Development to learn more about managing young families and careers.</p>\n<p>\n	Expand your circle of support with other parents\, build new relationships\, share concerns and ideas!</p>\n<span style="font-size: 12px"><span style="font-family: arial"><span style="color: rgb(35\,31\,32)">Tuesday\, January 22nd<br />\n12:00 p.m. - 1:00 p.m.<br />\nWinona Area Chamber of Commerce Conference Room<br />\n&nbsp\;<br />\nPlease RSVP by calling the Chamber at 452-2272 or email <a href="mailto:info@winonachamber.com" shape="rect" target="_blank">info@winonachamber.com</a></span></span></span><br />\n<br />\n
LOCATION:Chamber of Commerce Conference Room 902 East Second Street Suite 120
UID:e.1434.1234
SEQUENCE:3
DTSTAMP:20260422T234130Z
URL:http://business.winonachamber.com/events/details/2013-yp-professional-development-managing-young-families-and-careers-01-22-01-22-2013-1234
END:VEVENT

END:VCALENDAR
