BEGIN:VCALENDAR
VERSION:2.0
PRODID:-//ChamberMaster//Event Calendar 2.0//EN
METHOD:PUBLISH
X-PUBLISHED-TTL:P3D
REFRESH-INTERVAL:P3D
CALSCALE:GREGORIAN
BEGIN:VEVENT
DTSTART:20140717T210000Z
DTEND:20140718T010000Z
X-MICROSOFT-CDO-ALLDAYEVENT:FALSE
SUMMARY:2014 A Sweet Stroll Downtown
DESCRIPTION:A Sweet Stroll Downtown\n\n \n\nDate: Thursday\, July 17th\, 2014  4:00 - 8:00 p.m.\n\n\n\nWhat: Participating businesses will plan on staying open late\, decorating window/display area\, and offering gourmet cupcakes or other sweet treats throughout the evening \n\n\n\nVision: Picture families and couples strolling\, shopping\, dining and realizing how many great options downtown has to offer\n\n\n\nPromotion: Get ready to use this "sweet" event as an opportunity to give customers incentive to return to your particular business!\n\n\n\nFor More Information: Contact David Bittner\, the Main Street Program Coordinator at: Phone: (507) 452-2272 Email: dbittner@winonachamber.com\n\n \n\nEarly Bird Registration due June 12th ($50)\n\nRegistration due by June 30th\, 2014 ($60)
X-ALT-DESC;FMTTYPE=text/html:<span style="language:en-US\;"><span style="font-family:britannic bold\;"><span style="font-size:25.0pt\;">A Sweet Stroll Downtown</span></span></span><br />\n&nbsp\;<br />\n<span style="font-size:14px\;"><span style="font-weight: bold\;"><span style="font-family: arial\;">Date</span></span><span><span style="font-family: arial\;">: Thursday\, July 17th\, 2014&nbsp\; 4:00 - 8:00 p.m.</span></span><br />\n<br />\n<span style="font-weight: bold\;"><span style="font-family: arial\;">What</span></span>: <span><span style="color: black\;"><span style="font-family: arial\;">Participating businesses will plan on staying open late\, decorating window/display area\, and offering gourmet cupcakes or other sweet treats throughout the evening </span></span></span><br />\n<br />\n<span style="font-weight: bold\;"><span style="color: black\;"><span style="font-family: arial\;">Vision:</span></span></span><span><span style="color: black\;"><span style="font-family: arial\;"> Picture families and couples strolling\, shopping\, dining and realizing how many great options downtown has to offer</span></span></span><br />\n<br />\n<span style="font-weight: bold\;"><span style="color: black\;"><span style="font-family: arial\;">Promotion</span></span></span><span><span style="color: black\;"><span style="font-family: arial\;">: Get ready to use this &ldquo\;sweet&rdquo\; event as an opportunity to give customers incentive to return to your particular business!</span></span></span><br />\n<br />\n<span style="font-weight: bold\;"><span style="color: black\;"><span style="font-family: arial\;">For More Information</span></span></span><span><span style="color: black\;"><span style="font-family: arial\;">: Contact David Bittner\, the Main Street Program Coordinator at:</span></span></span><span style="font-weight: bold\;"><span style="color: black\;"><span style="font-family: arial\;"> Phone</span></span></span><span><span style="color: black\;"><span style="font-family: arial\;">: (507) 452-2272</span></span></span><span><span style="color: black\;"><span style="font-family: arial\;"> </span></span></span><span style="font-weight: bold\;"><span style="color: black\;"><span style="font-family: arial\;">Email</span></span></span><span><span style="color: black\;"><span style="font-family: arial\;">: dbittner@winonachamber.com</span></span></span><br />\n&nbsp\;<br />\nEarly Bird Registration due June 12th ($50)<br />\nRegistration due by June 30th\, 2014 ($60)<br />\n&nbsp\;<br />\n&nbsp\;<br />\n&nbsp\;</span>
LOCATION:Acoustic Caf baby bean Beno's Deli Bernatz & Van Beek\, LLC Betty Jo Byoloski's Blooming Grounds Blue Bus Photo Booths Bluff Country Co-op Bodywork Health Spa and Salon Chapter 2 Books Chocolate Discoveries by Dove Computer Dock Costumes International Crowley Chiropractic Dare to Dream Studio Eastwood Bank Gundersen Lutheran Eye Clinic - Winona Heart's Desire Holtan's Home Federal Savings Bank Home Gallery Infinity Chiropractic Wellness Inside the Vault La Boutique Limousine Service of Winona Midwest Music Fest Morgan Jewelers Nola's Flowers\, LLC Nostallja Studio Off Center Designs Pipe Dream Toys Sammy's Pizza & Restaurant Sole Sport The Mezzanine Tossed and Found Volkmann Appliance Winona Public Library Winona Radio Winona Real Estate Yarnology
UID:e.1434.2150
SEQUENCE:3
DTSTAMP:20260419T183843Z
URL:http://business.winonachamber.com/events/details/2014-a-sweet-stroll-downtown-07-17-2014-2150
END:VEVENT

END:VCALENDAR
