BEGIN:VCALENDAR
VERSION:2.0
PRODID:-//ChamberMaster//Event Calendar 2.0//EN
METHOD:PUBLISH
X-PUBLISHED-TTL:P3D
REFRESH-INTERVAL:P3D
CALSCALE:GREGORIAN
BEGIN:VEVENT
DTSTART:20140124T233000Z
DTEND:20140125T030000Z
X-MICROSOFT-CDO-ALLDAYEVENT:FALSE
SUMMARY:2014 Annual Meeting & Banquet
DESCRIPTION:Chamber Annual Banquet and Member Appreciation\n\nKeynote Speaker: Steve Blue\n\n\n\nIndividual tickets: $40.00\n\nReserved Corporate Table for 8: $380\n\nReserved Corporate Table for 10: $450
X-ALT-DESC;FMTTYPE=text/html:Chamber Annual Banquet and Member Appreciation<br />\nKeynote Speaker: Steve Blue<br />\n<br />\nIndividual tickets: $40.00<br />\nReserved Corporate Table for 8: $380<br />\nReserved Corporate Table for 10: $450<br />\n<br />\n
LOCATION:Riverport Inn 900 Bruski Drive Winona\, MN 55987
UID:e.1434.1256
SEQUENCE:3
DTSTAMP:20260420T044658Z
URL:http://business.winonachamber.com/events/details/2014-annual-meeting-banquet-01-24-2014-1256
END:VEVENT

END:VCALENDAR
