BEGIN:VCALENDAR
VERSION:2.0
PRODID:-//ChamberMaster//Event Calendar 2.0//EN
METHOD:PUBLISH
X-PUBLISHED-TTL:P3D
REFRESH-INTERVAL:P3D
CALSCALE:GREGORIAN
BEGIN:VEVENT
DTSTART:20140227T140000Z
DTEND:20140227T150000Z
X-MICROSOFT-CDO-ALLDAYEVENT:FALSE
SUMMARY:2014 Breakfast Learning - Earning the Right to Lead
DESCRIPTION:Earning the Right to Lead\n\n\n\nBob Ash founded his company\, Life Lessons\, in 1995. Since then\, he has provided training and education to 1\,500 plus organizations and businesses\, numbering over   340\,000 individuals.
X-ALT-DESC;FMTTYPE=text/html:<strong>Earning the Right to Lead</strong><br />\n<br />\nBob Ash founded his company\, Life Lessons\, in 1995. Since then\, he has provided training and education to 1\,500 plus organizations and businesses\, numbering over&nbsp\;&nbsp\; 340\,000 individuals.
LOCATION:Riverport Inn & Suites 900 Bruski Drive Winona\, MN
UID:e.1434.2149
SEQUENCE:3
DTSTAMP:20260420T025725Z
URL:http://business.winonachamber.com/events/details/2014-breakfast-learning-earning-the-right-to-lead-02-27-2014-2149
END:VEVENT

END:VCALENDAR
