BEGIN:VCALENDAR
VERSION:2.0
PRODID:-//ChamberMaster//Event Calendar 2.0//EN
METHOD:PUBLISH
X-PUBLISHED-TTL:P3D
REFRESH-INTERVAL:P3D
CALSCALE:GREGORIAN
BEGIN:VEVENT
DTSTART:20140520T163000Z
DTEND:20140520T180000Z
X-MICROSOFT-CDO-ALLDAYEVENT:FALSE
SUMMARY:2014 Business Celebration Luncheon
DESCRIPTION:14th Annual Business Celebration Week\n\nAwards Luncheon \n\n \n\n2014 Business Celebration Award Categories Defined                  \n\n\n\nBest Place to Work   Do you work for a business that is the best place to work? We want to hear all about it. What makes your work place unique or special? Nomination: completed by employee(s).\n\n\n\nThe Red Carpet Award  This award is for a business that provides quality customer service to anyone who walks in the door and recognizes the exceptional performance\, compassion and care that go into great customer service.  This nomination form is to be completed by consumer/customer.\n\n\n\nOutstanding Achievement in Workforce Development   Take a moment to nominate a business who has worked hard to grow and further develop their company. This business is one who has taken creative measures to create new jobs\, avoid downsizing\, and provide the training necessary to stay competitive in the current work environment and maintain a highly skilled\, motivated staff. This nomination form is to be completed by the employer or another business who works closely with the nominee.\n\n\n\nSmall Business Achievement Award   Recognize a small business (1-50 employees) that is surviving and thriving in today's ever-changing business world. Whether it is celebrating an anniversary\, advancing to multiple locations\, or expanding a product line\; we want to honor them for all of their hard work. This nomination form is to be completed by employees or the general public.   \n\n\n\nOutstanding Leadership in Community Citizenship   Has there been an initiative this year that has touched your heart? We want to thank and recognize the entity that is behind that special story. Share it with us today! This award is open to both business and non-profit organizations that exemplify leadership in community citizenship. Nomination: completed by employees or the general public.\n\n\n\nDowntown Investment Award   This award is for business located in the Downtown Central Business District and recognizes how that business has invested to improve our downtown\, either through job creation or the beautification of their location. Nomination: completed by the business/property owner/business manager.
X-ALT-DESC;FMTTYPE=text/html:<span style="font-size: 14px"><span><span style="color: rgb(165\,0\,33)"><span style="font-family: lucida handwriting">14th Annual Business </span></span></span><span><span style="color: rgb(165\,0\,33)"><span style="font-family: lucida handwriting">Celebration Week</span></span></span><br />\n<span><span style="color: rgb(165\,0\,33)"><span style="font-family: lucida handwriting">Awards Luncheon </span></span></span></span><br />\n&nbsp\;\n<div>\n<div style="border-bottom: #4f81bd 1pt solid\; border-left: medium none\; padding-bottom: 4pt\; padding-left: 0in\; padding-right: 0in\; border-top: medium none\; border-right: medium none\; padding-top: 0in"><strong><span style="font-size: 14pt">2014 Business Celebration Award Categories Defined&nbsp\;&nbsp\;&nbsp\;&nbsp\;&nbsp\;&nbsp\;&nbsp\;&nbsp\;&nbsp\;&nbsp\;&nbsp\;&nbsp\;&nbsp\;&nbsp\;&nbsp\;&nbsp\;&nbsp\; </span></strong></div>\n</div>\n<br clear="all" />\n<strong><u><span style="font-style: normal"><span style="color: windowtext"><span style="font-size: 10.5pt">Best Place to Work</span></span></span></u></strong><strong><span style="font-style: normal"><span style="color: windowtext"><span style="font-size: 10.5pt"> &ndash\; </span></span></span></strong><span style="font-style: normal"><span style="color: windowtext"><span style="font-size: 10.5pt">Do you work for a business that is the best place to work? We want to hear all about it. What makes your work place unique or special? N<strong>omination: completed by employee(s).</strong></span></span></span><br />\n<br />\n<strong><u><span style="font-style: normal"><span style="color: windowtext"><span style="font-size: 10.5pt">The Red Carpet Award</span></span></span></u></strong> <span style="font-style: normal"><span style="color: windowtext"><span style="font-size: 10.5pt">&ndash\;This award is for a business that provides quality customer service to anyone who walks in the door and recognizes the exceptional performance\, compassion and care that go into great customer service.&nbsp\; <strong>This nomination form is to be completed by consumer/customer.</strong></span></span></span><br />\n<br />\n<strong><u><span style="font-style: normal"><span style="color: windowtext"><span style="font-size: 10.5pt">Outstanding Achievement in Workforce Development</span></span></span></u></strong><span style="font-style: normal"><span style="color: windowtext"><span style="font-size: 10.5pt"> &ndash\; Take a moment to nominate a business who has worked hard to grow and further develop their company. This business is one who has taken creative measures to create new jobs\, avoid downsizing\, and provide the training necessary to stay competitive in the current work environment and maintain a highly skilled\, motivated staff.<strong> This</strong> <strong>nomination form is to be completed by the employer or another business who works closely with the nominee.</strong></span></span></span><br />\n<br />\n<strong><u><span style="font-style: normal"><span style="color: windowtext"><span style="font-size: 10.5pt">Small Business Achievement Award</span></span></span></u></strong><span style="font-style: normal"><span style="color: windowtext"><span style="font-size: 10.5pt"> &ndash\; Recognize a small business (1-50 employees) that is surviving and thriving in today&rsquo\;s ever-changing business world. Whether it is celebrating an anniversary\, advancing to multiple locations\, or expanding a product line\; we want to honor them for all of their hard work. <strong>This nomination form is to be completed by employees or the general public.</strong></span></span></span><span style="letter-spacing: 0pt"><span style="color: windowtext"><span style="font-family: calibri\, sans-serif"><span style="font-size: 11pt">&nbsp\;&nbsp\; </span></span></span></span><br />\n<br />\n<strong><u><span style="font-style: normal"><span style="color: windowtext"><span style="font-size: 10.5pt">Outstanding Leadership in Community Citizenship</span></span></span></u></strong><span style="font-style: normal"><span style="color: windowtext"><span style="font-size: 10.5pt"> &ndash\; Has there been an initiative this year that has touched your heart? We want to thank and recognize the entity that is behind that special story. Share it with us today! This award is open to both business and non-profit organizations that exemplify leadership in community citizenship. N<strong>omination: completed by employees or the general public.</strong></span></span></span><br />\n<br />\n<strong><u><span style="font-style: normal"><span style="color: windowtext"><span style="font-size: 10.5pt">Downtown Investment Award</span></span></span></u></strong><span style="font-style: normal"><span style="color: windowtext"><span style="font-size: 10.5pt"> &ndash\; This award is for business located in the Downtown Central Business District and recognizes how that business has invested to improve our downtown\, either through job creation or the beautification of their location.<strong> Nomination: completed by the business/property owner/business manager.</strong></span></span></span><br />\n&nbsp\;
LOCATION:Riverport Inn & Suites 900 Bruski Drive Winona\, MN
UID:e.1434.2097
SEQUENCE:3
DTSTAMP:20260419T215931Z
URL:http://business.winonachamber.com/events/details/2014-business-celebration-luncheon-05-20-2014-2097
END:VEVENT

END:VCALENDAR
