BEGIN:VCALENDAR
VERSION:2.0
PRODID:-//ChamberMaster//Event Calendar 2.0//EN
METHOD:PUBLISH
X-PUBLISHED-TTL:P3D
REFRESH-INTERVAL:P3D
CALSCALE:GREGORIAN
BEGIN:VEVENT
DTSTART:20140319T120000Z
DTEND:20140319T220000Z
X-MICROSOFT-CDO-ALLDAYEVENT:FALSE
SUMMARY:2014 Business Day at the Capitol 03.19.14
DESCRIPTION:BUSINESS  DAY AT THE CAPITOL\n\nAdvance your priorities face-to-face with legislators\n\n\n\nJoin your peers from across the state as we lobby with one voice on the issues that will help strengthen the business environment to improve the lives of all Minnesotans.\n\n \n\nEvent LocationCrowne Plaza St. Paul - Riverfront\n\n11 East Kellogg Boulevard\, St. Paul \n\nWednesday\, March 13    $60\n\n \n\n7:00 am -Meet at JC Penny/Goodview water tower parking lot   Hwy 14 & 61 Winona MN\n\n5:00 pm  Back in Winona
X-ALT-DESC;FMTTYPE=text/html:<strong><span style="font-family:times new roman\,serif\;"><span style="font-size:11.0pt\;">BUSINESS &nbsp\;DAY AT THE CAPITOL</span></span></strong><br />\n<span style="font-family:times new roman\,serif\;"><span style="font-size:11.0pt\;"><em>Advance your priorities face-to-face with legislators</em><br />\n<br />\nJoin your peers from across the state as we lobby with one voice on the issues that will help strengthen the business environment to improve the lives of all Minnesotans.<br />\n&nbsp\;</span></span><br />\n<strong><span style="font-family:times new roman\,serif\;"><span style="font-size:11.0pt\;">Event&nbsp\;</span></span></strong><strong><span style="font-family:times new roman\,serif\;"><span style="font-size:11.0pt\;">Location</span></span></strong><a href="http://www.cpstpaul.com/directions.html" target="_blank"><span style="color:blue\;"><span style="font-family:times new roman\,serif\;"><span style="font-size:11.0pt\;">Crowne</span></span></span></a><a href="http://www.cpstpaul.com/directions.html" target="_blank"><span style="color:blue\;"><span style="font-family:times new roman\,serif\;"><span style="font-size:11.0pt\;"> Plaza St. Paul - Riverfront</span></span></span></a><br />\n<span style="font-family:times new roman\,serif\;"><span style="font-size:11.0pt\;">11 East Kellogg Boulevard\, St. Paul </span></span><br />\n<span style="font-family:times new roman\,serif\;"><span style="font-size:11.0pt\;">Wednesday\, March 13&nbsp\;&nbsp\;&nbsp\; </span></span><span style="font-family:times new roman\,serif\;"><span style="font-size:11.0pt\;">$60</span></span><br />\n&nbsp\;<br />\n<strong><span style="font-family:times new roman\,serif\;"><span style="font-size:11.0pt\;">7:00 am -</span></span></strong><span style="font-family:times new roman\,serif\;"><span style="font-size:11.0pt\;">Meet at JC Penny/Goodview water tower parking lot &ndash\; Hwy 14 &amp\; 61 Winona MN</span></span><br />\n<strong><span style="font-family:times new roman\,serif\;"><span style="font-size:11.0pt\;">5:00 pm</span></span></strong><span style="font-family:times new roman\,serif\;"><span style="font-size:11.0pt\;">&ndash\; Back in Winona</span></span>
LOCATION:12:45 p.m. Board buses to the Capitol 1:15 - 3:00 p.m. Appointments with Legislators
UID:e.1434.2153
SEQUENCE:3
DTSTAMP:20260420T011147Z
URL:http://business.winonachamber.com/events/details/2014-business-day-at-the-capitol-03-19-14-03-19-2014-2153
END:VEVENT

END:VCALENDAR
