BEGIN:VCALENDAR
VERSION:2.0
PRODID:-//ChamberMaster//Event Calendar 2.0//EN
METHOD:PUBLISH
X-PUBLISHED-TTL:P3D
REFRESH-INTERVAL:P3D
CALSCALE:GREGORIAN
BEGIN:VEVENT
DTSTART:20140930T170000Z
DTEND:20140930T180000Z
X-MICROSOFT-CDO-ALLDAYEVENT:FALSE
SUMMARY:2014 Chamber YP+ (a special program for YPs with children)
DESCRIPTION:Katy Smith\, MN Teacher of the Year 2011 will facilitate our YP+\,  a special program aimed towards YPs with children!\n\n\n\nExpand your circle with other parents\, build new relationships\, share concerns and ideas!\n\nPlease RSVP by calling the Chamber at 452-2272 or email tsandven@winonachamber.com
X-ALT-DESC;FMTTYPE=text/html:<p>Katy Smith\, MN Teacher of the Year 2011 will facilitate our YP+\, &nbsp\;a special program aimed towards YPs with children!<br />\n<br />\nExpand your circle with other parents\, build new relationships\, share concerns and ideas!</p>\n\n<p>Please RSVP by calling the Chamber at 452-2272 or email tsandven@winonachamber.com</p>\n
LOCATION:Chamber of Commerce Conference Room 902 E. 2nd Street\, Suite 120
UID:e.1434.2217
SEQUENCE:3
DTSTAMP:20260419T153412Z
URL:http://business.winonachamber.com/events/details/2014-chamber-yp-a-special-program-for-yps-with-children-09-30-2014-2217
END:VEVENT

END:VCALENDAR
