BEGIN:VCALENDAR
VERSION:2.0
PRODID:-//ChamberMaster//Event Calendar 2.0//EN
METHOD:PUBLISH
X-PUBLISHED-TTL:P3D
REFRESH-INTERVAL:P3D
CALSCALE:GREGORIAN
BEGIN:VEVENT
DTSTART:20140626T220000Z
DTEND:20140627T010000Z
X-MICROSOFT-CDO-ALLDAYEVENT:FALSE
SUMMARY:2014 Family Night on the Farm
DESCRIPTION:Family Night on the Farm at Frickson's Family Farm\n\nBrett & Bonnie Frickson\n\n\n\nThis family-friendly event celebrates the economic importance of the agriculture industry to Winona County. Winona County is the 3rd largest dairy producing county in the state of Minnesota\, and provides thousands of direct and indirect jobs.\n\n \n\nThe Winona Chamber provides a fun\, safe multi-generational family event at a local family owned dairy farm each year. While the attractions include the popular family-style picnic complete with root beer floats\, hay rack rides\, kids games\, live entertainment\, small petting zoo and farm implement displays\, there is much more to Family Night on the Farm. This event encourages attendees to take an education tour of dairy farm operations\, exploring how the cows are cared for\, how milking operations work\, what safety standards are in place as well as how the farm operates just like any other family owned business. Most importantly\, attendees gain an understanding of just how important the local family farm is to the very culture and fabric of Winona County.\n\n \n\nFarm machine display - games - petting zoo - Children's "Train" wagon\n\nEntertainment by Ron's Old Thym Fun Band
X-ALT-DESC;FMTTYPE=text/html:<span style="color:#006400\;"><strong><span style="font-size: 16px\;"><span style="font-family: tahoma\;">Family Night on the Farm at Frickson&#39\;s Family Farm<br />\nBret</span></span><span style="font-family: tahoma\;"><span style="font-size: 16px\;">t &amp\; Bonnie Frickson</span></span></strong></span><br />\n<br />\n<span style="font-size:14px\;"><span style="font-family: tahoma\;">This family-friendly event celebrates the economic importance of the agriculture industry to Winona County. Winona County is the 3<sup>rd</sup> largest dairy producing county in the state of Minnesota\, and provides thousands of direct and indirect jobs.<br />\n&nbsp\;<br />\nThe Winona Chamber provides a fun\, safe multi-generational family event at a local family owned dairy farm each year. While the attractions include the popular family-style picnic complete with root beer floats\, hay rack rides\, kids games\, live entertainment\, small petting zoo and farm implement displays\, there is much more to Family Night on the Farm. This event encourages attendees to take an education tour of dairy farm operations\, exploring how the cows are cared for\, how milking operations work\, what safety standards are in place as well as how the farm operates just like any other family owned business. Most importantly\, attendees gain an understanding of just how important the local family farm is to the very culture and fabric of Winona County.<br />\n&nbsp\;</span></span><br />\n<span style="font-size:14px\;"><span style="font-family: tahoma\;">Farm machine display - games - petting zoo - Children&#39\;s &quot\;Train&quot\; wagon<br />\nEntertainment by Ron&#39\;s Old Thym Fun Band</span></span><br />\n&nbsp\;
LOCATION:Frickson's Family Farm Brett & Bonnie Frickson Dakota MN
UID:e.1434.2184
SEQUENCE:3
DTSTAMP:20260419T202800Z
URL:http://business.winonachamber.com/events/details/2014-family-night-on-the-farm-06-26-2014-2184
END:VEVENT

END:VCALENDAR
