BEGIN:VCALENDAR
VERSION:2.0
PRODID:-//ChamberMaster//Event Calendar 2.0//EN
METHOD:PUBLISH
X-PUBLISHED-TTL:P3D
REFRESH-INTERVAL:P3D
CALSCALE:GREGORIAN
BEGIN:VEVENT
DTSTART:20131123T190000Z
DTEND:20131123T223000Z
X-MICROSOFT-CDO-ALLDAYEVENT:FALSE
SUMMARY:2014 Lunchtime Learning - Customer Service Eagles
DESCRIPTION:Customer Service Eagles
X-ALT-DESC;FMTTYPE=text/html:Customer Service Eagles
LOCATION:Winona Area Chamber of Commerce Training Room 902 East Second Street Suite 120
UID:e.1434.2130
SEQUENCE:3
DTSTAMP:20260424T093816Z
URL:http://business.winonachamber.com/events/details/2014-lunchtime-learning-customer-service-eagles-11-23-2013-2130
END:VEVENT

END:VCALENDAR
