BEGIN:VCALENDAR
VERSION:2.0
PRODID:-//ChamberMaster//Event Calendar 2.0//EN
METHOD:PUBLISH
X-PUBLISHED-TTL:P3D
REFRESH-INTERVAL:P3D
CALSCALE:GREGORIAN
BEGIN:VEVENT
DTSTART:20140320T170000Z
DTEND:20140320T180000Z
X-MICROSOFT-CDO-ALLDAYEVENT:FALSE
SUMMARY:2014 Lunchtime Learning - Target Your Communication Methods for Success
DESCRIPTION:Target your Communication Methods for Success\n\n\n	Call to Action\n	Target Audience\n	Determining communication channel\n\nPresented by:  Laura Boyd\, MN Chamber of Commerce
X-ALT-DESC;FMTTYPE=text/html:<span style="font-size: 14px"><span style="font-family: times new roman">Target your Communication Methods for Success</span></span>\n\n<ul>\n	<li><span style="font-size: 14px"><span style="font-family: times new roman">Call to Action</span></span></li>\n	<li><span style="font-size: 14px"><span style="font-family: times new roman">Target Audience</span></span></li>\n	<li><span style="font-size: 14px"><span style="font-family: times new roman">Determining communication channel</span></span></li>\n</ul>\nPresented by:&nbsp\; Laura Boyd\, MN Chamber of Commerce
LOCATION:Chamber Conference Room 902 East Second Street Suite 120
UID:e.1434.2103
SEQUENCE:3
DTSTAMP:20260420T010539Z
URL:http://business.winonachamber.com/events/details/2014-lunchtime-learning-target-your-communication-methods-for-success-03-20-2014-2103
END:VEVENT

END:VCALENDAR
