BEGIN:VCALENDAR
VERSION:2.0
PRODID:-//ChamberMaster//Event Calendar 2.0//EN
METHOD:PUBLISH
X-PUBLISHED-TTL:P3D
REFRESH-INTERVAL:P3D
CALSCALE:GREGORIAN
BEGIN:VEVENT
DTSTART:20141023T190000Z
DTEND:20141023T200000Z
X-MICROSOFT-CDO-ALLDAYEVENT:FALSE
SUMMARY:2014 Manufacturers & Technology Week Tours - Badger Equipment Tour
DESCRIPTION:Badger Equipment   max. of 20. No open-toed or high heeled shoes. Safety glasses will be provided.\n\n217 Patenaude Drive
X-ALT-DESC;FMTTYPE=text/html:Badger Equipment &ndash\; max. of 20. No open-toed or high heeled shoes. Safety glasses will be provided.<br />\n217 Patenaude Drive
LOCATION:
UID:e.1434.2219
SEQUENCE:3
DTSTAMP:20260419T140341Z
URL:http://business.winonachamber.com/events/details/2014-manufacturers-technology-week-tours-badger-equipment-tour-10-23-2014-2219
END:VEVENT

END:VCALENDAR
