BEGIN:VCALENDAR
VERSION:2.0
PRODID:-//ChamberMaster//Event Calendar 2.0//EN
METHOD:PUBLISH
X-PUBLISHED-TTL:P3D
REFRESH-INTERVAL:P3D
CALSCALE:GREGORIAN
BEGIN:VEVENT
DTSTART:20141020T180000Z
DTEND:20141020T190000Z
X-MICROSOFT-CDO-ALLDAYEVENT:FALSE
SUMMARY:2014 Manufacturers & Technology Week Tours - CPI Binani
DESCRIPTION:CPI Binani Tour   max. of 15. No open-toed or high heeled shoes. Safety glasses will be provided. 1700 Wilkie Drive.
X-ALT-DESC;FMTTYPE=text/html:CPI Binani Tour &ndash\; max. of 15. No open-toed or high heeled shoes. Safety glasses will be provided. 1700 Wilkie Drive.
LOCATION:
UID:e.1434.2226
SEQUENCE:3
DTSTAMP:20260419T135938Z
URL:http://business.winonachamber.com/events/details/2014-manufacturers-technology-week-tours-cpi-binani-10-20-2014-2226
END:VEVENT

END:VCALENDAR
