BEGIN:VCALENDAR
VERSION:2.0
PRODID:-//ChamberMaster//Event Calendar 2.0//EN
METHOD:PUBLISH
X-PUBLISHED-TTL:P3D
REFRESH-INTERVAL:P3D
CALSCALE:GREGORIAN
BEGIN:VEVENT
DTSTART:20141021T183000Z
DTEND:20141021T193000Z
X-MICROSOFT-CDO-ALLDAYEVENT:FALSE
SUMMARY:2014 Manufacturers & Technology Week Tours - Fastenal Tour
DESCRIPTION:Fastenal Tour   max. of 50. No open-toed or high heeled shoes. Safety glasses will be provided. 1801 Theurer Blvd.
X-ALT-DESC;FMTTYPE=text/html:Fastenal Tour &ndash\; max. of 50. No open-toed or high heeled shoes. Safety glasses will be provided. 1801 Theurer Blvd.
LOCATION:
UID:e.1434.2214
SEQUENCE:3
DTSTAMP:20260419T140257Z
URL:http://business.winonachamber.com/events/details/2014-manufacturers-technology-week-tours-fastenal-tour-10-21-2014-2214
END:VEVENT

END:VCALENDAR
