BEGIN:VCALENDAR
VERSION:2.0
PRODID:-//ChamberMaster//Event Calendar 2.0//EN
METHOD:PUBLISH
X-PUBLISHED-TTL:P3D
REFRESH-INTERVAL:P3D
CALSCALE:GREGORIAN
BEGIN:VEVENT
DTSTART:20141022T183000Z
DTEND:20141022T193000Z
X-MICROSOFT-CDO-ALLDAYEVENT:FALSE
SUMMARY:2014 Manufacturers & Technology Week Tours - Miller Ingenuity Tour
DESCRIPTION:Manufacturer & Technology Week Tours\n\nMiller Ingenuity - includes Creation Station. Ambassadors Ribbon Cutting will be at 3:15. Creation Station only tour/visit   arrive at 2:30 pm
X-ALT-DESC;FMTTYPE=text/html:Manufacturer &amp\; Technology Week Tours<br />\nMiller Ingenuity - includes Creation Station. Ambassadors Ribbon Cutting will be at 3:15. Creation Station only tour/visit &ndash\; arrive at 2:30 pm
LOCATION:Miller Ingenuity 1155 East Eighth Street Winona
UID:e.1434.2215
SEQUENCE:3
DTSTAMP:20260419T154003Z
URL:http://business.winonachamber.com/events/details/2014-manufacturers-technology-week-tours-miller-ingenuity-tour-10-22-2014-2215
END:VEVENT

END:VCALENDAR
